{
 "currentVersion": 11.5,
 "serviceDescription": "NDWR_PMP/general_12hr_V3_tif",
 "serviceItemId": "aea0291f37664b99afbb8876ec64d56c",
 "name": "NDWR_PMP/general_12hr_V3_tif",
 "description": "",
 "extent": {
  "xmin": -121.25035000000707,
  "ymin": 34.274429,
  "xmax": -112.4423690000142,
  "ymax": 43.115742,
  "spatialReference": {
   "wkid": 4326,
   "latestWkid": 4326
  }
 },
 "initialExtent": {
  "xmin": -121.25035000000707,
  "ymin": 34.274429,
  "xmax": -112.4423690000142,
  "ymax": 43.115742,
  "spatialReference": {
   "wkid": 4326,
   "latestWkid": 4326
  }
 },
 "fullExtent": {
  "xmin": -121.25035000000707,
  "ymin": 34.274429,
  "xmax": -112.4423690000142,
  "ymax": 43.115742,
  "spatialReference": {
   "wkid": 4326,
   "latestWkid": 4326
  }
 },
 "sortableFields": "",
 "bandCount": 37,
 "pixelType": "F64",
 "minValues": [
  3.7542991187629,
  3.6852801916168,
  3.6270619565108,
  3.6040747184453,
  3.579018094336,
  3.5531352495584,
  3.5386298647703,
  3.5201101871658,
  3.509226583202,
  3.4947446791928,
  3.4136383956595,
  3.3488622136292,
  3.2976237201171,
  3.2565991604771,
  3.2169314862388,
  3.1785461501952,
  3.1417901540719,
  3.1077574126956,
  3.0750416991768,
  2.8444424440379,
  2.6978638050885,
  2.589903362357,
  2.5017796871499,
  2.425784834491,
  2.3596477080273,
  2.3012216854294,
  2.2488362132901,
  2.2011023463372,
  1.8916321239521,
  1.7230018832077,
  1.6081260060203,
  1.5192807004389,
  1.4453480063759,
  1.382042269644,
  1.3268675744707,
  1.2779775407674,
  1.2341109996532
 ],
 "maxValues": [
  24.914762842374,
  24.914726077102,
  24.914677912795,
  24.914646599236,
  24.872036939098,
  24.776222536883,
  24.730087340347,
  24.677352218714,
  24.6498331751,
  24.616488497738,
  23.343966280165,
  22.647416607529,
  22.167114694504,
  21.724924738209,
  21.375658949469,
  21.059566721338,
  20.765571720481,
  20.526536729658,
  20.311446782647,
  18.830602864657,
  17.890226997174,
  17.285930720641,
  16.837685776928,
  16.433932633427,
  16.086217463732,
  15.786667064952,
  15.507106875629,
  15.256216666449,
  13.510752076337,
  12.411790084966,
  11.625779646019,
  11.030621134358,
  10.547986308247,
  10.136491417546,
  9.7814502191214,
  9.4716001867102,
  9.1950355785188
 ],
 "meanValues": [
  6.5750331580831,
  6.5388673052866,
  6.490048165515,
  6.4645893943986,
  6.422945187278,
  6.383223973198,
  6.35813628309,
  6.3208060239583,
  6.3034254872504,
  6.2794504187025,
  6.0607494321757,
  5.8939839622628,
  5.7542414409357,
  5.6315506189576,
  5.5236135676755,
  5.431018320333,
  5.3499774952497,
  5.2777390879786,
  5.210694681482,
  4.7706904009858,
  4.5119635616614,
  4.3311392695518,
  4.1912018937123,
  4.0721974955067,
  3.9699587979213,
  3.882672863919,
  3.8046523501787,
  3.7346825842728,
  3.262194419213,
  3.0151642170189,
  2.8388910469214,
  2.6990078440992,
  2.5812844137623,
  2.4796050363707,
  2.3909786775502,
  2.3135584876452,
  2.2437191451077
 ],
 "stdvValues": [
  2.0075339756722,
  2.0153894564929,
  2.0247787776338,
  2.0292821437847,
  2.0344563043018,
  2.0333059092095,
  2.0347939652863,
  2.0395995584364,
  2.03974996199,
  2.0406053036466,
  1.9361088506027,
  1.8812016691595,
  1.8444032197134,
  1.8103717311753,
  1.7843383160083,
  1.7606627072394,
  1.7387696788316,
  1.7220986373216,
  1.7076188693076,
  1.6119768691841,
  1.5516233069546,
  1.5153896153562,
  1.4881467370088,
  1.4625405080021,
  1.4406906095792,
  1.4222992585554,
  1.4044745147891,
  1.3883970030768,
  1.2782336127385,
  1.1914510756138,
  1.1262965944448,
  1.0756015996912,
  1.0342009689813,
  0.99895838761382,
  0.96870245843867,
  0.94208284519319,
  0.91794112281737
 ],
 "serviceProperties": "Center<\/MosaicMethod>First<\/MosaicOperator>true<\/SortAscending><\/LockImageID><\/TileOrderField>0<\/TileOrderBase>0.000000<\/AvgImageSpacingX>0.000000<\/AvgImageSpacingY>0.0<\/ViewPointX>0.0<\/ViewPointY>0.0<\/ViewPointDefShiftX>0.0<\/ViewPointDefShiftY>None<\/CompressionMethod>75<\/CompressionQuality>0.010000<\/CompressionTolerance>Bilinear<\/SamplingMethod><\/ImageServiceProperties><\/ImageServer>",
 "allowedFields": "",
 "hasMultidimensions": false,
 "pixelSizeX": 0.00832512381851879,
 "pixelSizeY": 0.008325153483992466,
 "meanPixelSize": 926.7501954411769,
 "datasetFormat": "TIFF",
 "uncompressedSize": 332584416,
 "blockWidth": 128,
 "blockHeight": 128,
 "compressionType": "LZW",
 "bandNames": [
  "Band_1",
  "Band_2",
  "Band_3",
  "Band_4",
  "Band_5",
  "Band_6",
  "Band_7",
  "Band_8",
  "Band_9",
  "Band_10",
  "Band_11",
  "Band_12",
  "Band_13",
  "Band_14",
  "Band_15",
  "Band_16",
  "Band_17",
  "Band_18",
  "Band_19",
  "Band_20",
  "Band_21",
  "Band_22",
  "Band_23",
  "Band_24",
  "Band_25",
  "Band_26",
  "Band_27",
  "Band_28",
  "Band_29",
  "Band_30",
  "Band_31",
  "Band_32",
  "Band_33",
  "Band_34",
  "Band_35",
  "Band_36",
  "Band_37"
 ],
 "allowCopy": true,
 "allowAnalysis": true,
 "itemAccess": false,
 "inspectionCapabilities": "",
 "minPixelSize": 0,
 "maxPixelSize": 0,
 "copyrightText": "",
 "serviceDataType": "esriImageServiceDataTypeGeneric",
 "serviceSourceType": "esriImageServiceSourceTypeDataset",
 "objectIdField": "",
 "fields": [],
 "capabilities": "Image,Metadata,Mensuration",
 "defaultMosaicMethod": "Center",
 "allowedMosaicMethods": "",
 "sortField": "",
 "sortValue": null,
 "sortAscending": true,
 "mosaicOperator": "First",
 "defaultCompressionQuality": 75,
 "defaultResamplingMethod": "Bilinear",
 "maxImageHeight": 4100,
 "maxImageWidth": 15000,
 "allowRasterFunction": true,
 "rasterFunctionInfos": [
  {
   "name": "None",
   "description": "",
   "help": ""
  }
 ],
 "rasterTypeInfos": [
  {
   "name": "Raster Dataset",
   "description": "Supports all ArcGIS Raster Datasets",
   "help": ""
  }
 ],
 "mensurationCapabilities": "Basic",
 "hasHistograms": true,
 "hasColormap": false,
 "hasRasterAttributeTable": false,
 "minScale": 0,
 "maxScale": 0,
 "exportTilesAllowed": false,
 "supportsStatistics": false,
 "supportsAdvancedQueries": false,
 "editFieldsInfo": null,
 "ownershipBasedAccessControlForRasters": null,
 "allowComputeTiePoints": false,
 "useStandardizedQueries": true,
 "advancedQueryCapabilities": {
  "useStandardizedQueries": true,
  "supportsStatistics": false,
  "supportsOrderBy": false,
  "supportsDistinct": false,
  "supportsPagination": false
 },
 "spatialReference": {
  "wkid": 4326,
  "latestWkid": 4326
 }
}
