{
 "currentVersion": 11.5,
 "serviceDescription": "NDWR_PMP/general_24hr_V3_tif",
 "serviceItemId": "eb0d5ee7554447b2b46c7ab2d2f75826",
 "name": "NDWR_PMP/general_24hr_V3_tif",
 "description": "",
 "extent": {
  "xmin": -121.25035000000707,
  "ymin": 34.274429,
  "xmax": -112.4423690000142,
  "ymax": 43.115742,
  "spatialReference": {
   "wkid": 4326,
   "latestWkid": 4326
  }
 },
 "initialExtent": {
  "xmin": -121.25035000000707,
  "ymin": 34.274429,
  "xmax": -112.4423690000142,
  "ymax": 43.115742,
  "spatialReference": {
   "wkid": 4326,
   "latestWkid": 4326
  }
 },
 "fullExtent": {
  "xmin": -121.25035000000707,
  "ymin": 34.274429,
  "xmax": -112.4423690000142,
  "ymax": 43.115742,
  "spatialReference": {
   "wkid": 4326,
   "latestWkid": 4326
  }
 },
 "sortableFields": "",
 "bandCount": 37,
 "pixelType": "F64",
 "minValues": [
  5.459646540364,
  5.3970479289378,
  5.3153299722146,
  5.2718504657895,
  5.1773169024795,
  5.0949804332313,
  5.0344488689593,
  4.933492705578,
  4.876155422306,
  4.8018624694473,
  4.453153350294,
  4.3308979753001,
  4.2393641588459,
  4.1652857604601,
  4.0997206799597,
  4.0430896281262,
  3.9926576834823,
  3.9456042793498,
  3.9029505182312,
  3.6135819960873,
  3.4486327703207,
  3.3360845039706,
  3.2487498354043,
  3.1748283244628,
  3.1094474997421,
  3.0499092862958,
  2.9964250911547,
  2.9480947537892,
  2.6584546613926,
  2.5218159424242,
  2.4119987527573,
  2.3163059607845,
  2.2291265687217,
  2.1494657218685,
  2.0777877027755,
  2.0139369622037,
  1.957138526674
 ],
 "maxValues": [
  35.796434297336,
  35.796383835199,
  35.796313999206,
  35.796280748262,
  35.709960771141,
  35.515799484854,
  35.422305810483,
  35.315446199261,
  35.259684373646,
  35.192119152455,
  33.305733910046,
  32.304045956182,
  31.557035353746,
  30.930174984921,
  30.405048098091,
  29.996641728848,
  29.644586852539,
  29.311193755147,
  29.020337854649,
  27.035248408809,
  25.739727853529,
  24.73041520797,
  23.969288190892,
  23.349255611204,
  22.841123105137,
  22.412682403288,
  22.053337353191,
  21.719450973464,
  19.365115629979,
  17.958376294303,
  16.965524917382,
  16.206507230141,
  15.599319941963,
  15.093532180142,
  14.652831063818,
  14.260043449419,
  13.909152046834
 ],
 "meanValues": [
  9.1556099508537,
  9.0214846845379,
  8.8935751194943,
  8.8330049921788,
  8.748128005269,
  8.673806771233,
  8.6281803822206,
  8.5653985480432,
  8.5294145233962,
  8.4823898277273,
  8.1526958898885,
  7.9636678680541,
  7.8235335223731,
  7.7106557502271,
  7.6101453425313,
  7.5255328789981,
  7.4510058301727,
  7.3830650654596,
  7.3217915036587,
  6.8911599137952,
  6.6081135803331,
  6.3963971566781,
  6.2294311720509,
  6.0891784297678,
  5.9693122170633,
  5.8646326418785,
  5.7717429400236,
  5.6869013068992,
  5.0978240009944,
  4.7400070131086,
  4.4826332180499,
  4.2748895214109,
  4.0978914002411,
  3.9442826628839,
  3.8086540268018,
  3.6879850409617,
  3.5797728584826
 ],
 "stdvValues": [
  3.0581006013945,
  3.0509962953273,
  3.0422938009873,
  3.0434339386244,
  3.0404149709632,
  3.0275471026939,
  3.0244431993055,
  3.0262379181024,
  3.027672593696,
  3.0301282859485,
  2.884975848705,
  2.8077728206595,
  2.7478640884187,
  2.6976087292585,
  2.6563851010376,
  2.6245303321088,
  2.5965336353258,
  2.5694008271176,
  2.5455033474324,
  2.3758985392885,
  2.2630280139715,
  2.1731708114632,
  2.1053964014372,
  2.0507166338486,
  2.0064919200512,
  1.9696258646685,
  1.9389852837476,
  1.9107628621959,
  1.7175973740764,
  1.608652257471,
  1.5355777538393,
  1.4825656784381,
  1.4423540548708,
  1.4092854102022,
  1.3795142005972,
  1.3515859855025,
  1.3253654304336
 ],
 "serviceProperties": "Center<\/MosaicMethod>First<\/MosaicOperator>true<\/SortAscending><\/LockImageID><\/TileOrderField>0<\/TileOrderBase>0.000000<\/AvgImageSpacingX>0.000000<\/AvgImageSpacingY>0.0<\/ViewPointX>0.0<\/ViewPointY>0.0<\/ViewPointDefShiftX>0.0<\/ViewPointDefShiftY>None<\/CompressionMethod>75<\/CompressionQuality>0.010000<\/CompressionTolerance>Bilinear<\/SamplingMethod><\/ImageServiceProperties><\/ImageServer>",
 "allowedFields": "",
 "hasMultidimensions": false,
 "pixelSizeX": 0.00832512381851879,
 "pixelSizeY": 0.008325153483992466,
 "meanPixelSize": 926.7501954411769,
 "datasetFormat": "TIFF",
 "uncompressedSize": 332584416,
 "blockWidth": 128,
 "blockHeight": 128,
 "compressionType": "LZW",
 "bandNames": [
  "Band_1",
  "Band_2",
  "Band_3",
  "Band_4",
  "Band_5",
  "Band_6",
  "Band_7",
  "Band_8",
  "Band_9",
  "Band_10",
  "Band_11",
  "Band_12",
  "Band_13",
  "Band_14",
  "Band_15",
  "Band_16",
  "Band_17",
  "Band_18",
  "Band_19",
  "Band_20",
  "Band_21",
  "Band_22",
  "Band_23",
  "Band_24",
  "Band_25",
  "Band_26",
  "Band_27",
  "Band_28",
  "Band_29",
  "Band_30",
  "Band_31",
  "Band_32",
  "Band_33",
  "Band_34",
  "Band_35",
  "Band_36",
  "Band_37"
 ],
 "allowCopy": true,
 "allowAnalysis": true,
 "itemAccess": false,
 "inspectionCapabilities": "",
 "minPixelSize": 0,
 "maxPixelSize": 0,
 "copyrightText": "",
 "serviceDataType": "esriImageServiceDataTypeGeneric",
 "serviceSourceType": "esriImageServiceSourceTypeDataset",
 "objectIdField": "",
 "fields": [],
 "capabilities": "Image,Metadata,Mensuration",
 "defaultMosaicMethod": "Center",
 "allowedMosaicMethods": "",
 "sortField": "",
 "sortValue": null,
 "sortAscending": true,
 "mosaicOperator": "First",
 "defaultCompressionQuality": 75,
 "defaultResamplingMethod": "Bilinear",
 "maxImageHeight": 4100,
 "maxImageWidth": 15000,
 "allowRasterFunction": true,
 "rasterFunctionInfos": [
  {
   "name": "None",
   "description": "",
   "help": ""
  }
 ],
 "rasterTypeInfos": [
  {
   "name": "Raster Dataset",
   "description": "Supports all ArcGIS Raster Datasets",
   "help": ""
  }
 ],
 "mensurationCapabilities": "Basic",
 "hasHistograms": true,
 "hasColormap": false,
 "hasRasterAttributeTable": false,
 "minScale": 0,
 "maxScale": 0,
 "exportTilesAllowed": false,
 "supportsStatistics": false,
 "supportsAdvancedQueries": false,
 "editFieldsInfo": null,
 "ownershipBasedAccessControlForRasters": null,
 "allowComputeTiePoints": false,
 "useStandardizedQueries": true,
 "advancedQueryCapabilities": {
  "useStandardizedQueries": true,
  "supportsStatistics": false,
  "supportsOrderBy": false,
  "supportsDistinct": false,
  "supportsPagination": false
 },
 "spatialReference": {
  "wkid": 4326,
  "latestWkid": 4326
 }
}
