{
 "currentVersion": 11.5,
 "serviceDescription": "NDWR_PMP/general_48hr_V3_tif",
 "serviceItemId": "836ddae31bf848e6a677048b5dd6c728",
 "name": "NDWR_PMP/general_48hr_V3_tif",
 "description": "",
 "extent": {
  "xmin": -121.25035000000707,
  "ymin": 34.274429,
  "xmax": -112.4423690000142,
  "ymax": 43.115742,
  "spatialReference": {
   "wkid": 4326,
   "latestWkid": 4326
  }
 },
 "initialExtent": {
  "xmin": -121.25035000000707,
  "ymin": 34.274429,
  "xmax": -112.4423690000142,
  "ymax": 43.115742,
  "spatialReference": {
   "wkid": 4326,
   "latestWkid": 4326
  }
 },
 "fullExtent": {
  "xmin": -121.25035000000707,
  "ymin": 34.274429,
  "xmax": -112.4423690000142,
  "ymax": 43.115742,
  "spatialReference": {
   "wkid": 4326,
   "latestWkid": 4326
  }
 },
 "sortableFields": "",
 "bandCount": 37,
 "pixelType": "F64",
 "minValues": [
  6.5147635692687,
  6.3224408908153,
  6.1959892182838,
  6.1423227805791,
  6.0788157721276,
  6.030265702976,
  6.0052493238074,
  5.9344769275095,
  5.8711057034146,
  5.8117049683375,
  5.5905323328934,
  5.4374622331108,
  5.3221722316338,
  5.2285558491548,
  5.14705366794,
  5.0779190485422,
  5.0203367114662,
  4.9715360642422,
  4.9286512432227,
  4.6627606320091,
  4.5125554814302,
  4.4039616017932,
  4.314361617959,
  4.2358287104973,
  4.1644068778755,
  4.0989338320945,
  4.0398870094418,
  3.9856831832373,
  3.6098306701614,
  3.3747934051331,
  3.1961157823227,
  3.0483353255156,
  2.9205726289986,
  2.8057807200221,
  2.7020423906853,
  2.6087531976596,
  2.5247655142804
 ],
 "maxValues": [
  38.580343892255,
  38.580224945789,
  38.580133933721,
  38.5800868958,
  38.489906409728,
  38.264573915737,
  38.159403963665,
  38.039205613367,
  37.976480893426,
  37.90046779695,
  35.847094955768,
  34.791071503037,
  34.000722618265,
  33.329632655537,
  32.732863294676,
  32.22720798322,
  31.792945822638,
  31.446909116654,
  31.111921548691,
  28.863665809477,
  27.802829635248,
  27.3540153201,
  27.00663808584,
  26.708227128007,
  26.44453916282,
  26.211445845377,
  26.001211953943,
  25.80864415625,
  24.442487213366,
  23.517832928711,
  22.763212454466,
  22.109409344682,
  21.51642083729,
  21.025213589866,
  20.660174121345,
  20.320801344678,
  20.000999069276
 ],
 "meanValues": [
  12.938152458284,
  12.729217183795,
  12.593780106489,
  12.516718780545,
  12.391385780179,
  12.285164451398,
  12.221630689782,
  12.135106762154,
  12.085523846489,
  12.021673463132,
  11.627935033592,
  11.39530536366,
  11.224378450771,
  11.094945318981,
  10.981509887926,
  10.883356013977,
  10.796080258341,
  10.71670009948,
  10.642984191866,
  10.133060909326,
  9.7962840626202,
  9.5409208515517,
  9.3387031776517,
  9.1632582108812,
  9.0036467153167,
  8.8567749939479,
  8.7226130818356,
  8.5985135755178,
  7.7530610680513,
  7.2513289523068,
  6.8844837364753,
  6.5869785549419,
  6.3313886370283,
  6.10916367554,
  5.9147498663677,
  5.7427907587983,
  5.5894884354376
 ],
 "stdvValues": [
  3.962443571265,
  3.929085817574,
  3.9264900665056,
  3.9205772836795,
  3.913247450591,
  3.9011510869275,
  3.8998548901753,
  3.9019826885942,
  3.9040258211532,
  3.9072612390183,
  3.8200017371109,
  3.7755023824085,
  3.7404224704326,
  3.7126403394049,
  3.6875861239005,
  3.6654063949115,
  3.6446581679295,
  3.6265436732788,
  3.6084979193829,
  3.4608520095597,
  3.3395996190692,
  3.2459085512504,
  3.1804984850156,
  3.1241600723295,
  3.0731306544589,
  3.0267393521757,
  2.9846581388299,
  2.946229772139,
  2.7002556672897,
  2.5726521804697,
  2.4897258294587,
  2.4270141259204,
  2.3751948228999,
  2.3334717377066,
  2.3010186472418,
  2.2717034702662,
  2.2441458023102
 ],
 "serviceProperties": "Center<\/MosaicMethod>First<\/MosaicOperator>true<\/SortAscending><\/LockImageID><\/TileOrderField>0<\/TileOrderBase>0.000000<\/AvgImageSpacingX>0.000000<\/AvgImageSpacingY>0.0<\/ViewPointX>0.0<\/ViewPointY>0.0<\/ViewPointDefShiftX>0.0<\/ViewPointDefShiftY>None<\/CompressionMethod>75<\/CompressionQuality>0.010000<\/CompressionTolerance>Bilinear<\/SamplingMethod><\/ImageServiceProperties><\/ImageServer>",
 "allowedFields": "",
 "hasMultidimensions": false,
 "pixelSizeX": 0.00832512381851879,
 "pixelSizeY": 0.008325153483992466,
 "meanPixelSize": 926.7501954411769,
 "datasetFormat": "TIFF",
 "uncompressedSize": 332584416,
 "blockWidth": 128,
 "blockHeight": 128,
 "compressionType": "LZW",
 "bandNames": [
  "Band_1",
  "Band_2",
  "Band_3",
  "Band_4",
  "Band_5",
  "Band_6",
  "Band_7",
  "Band_8",
  "Band_9",
  "Band_10",
  "Band_11",
  "Band_12",
  "Band_13",
  "Band_14",
  "Band_15",
  "Band_16",
  "Band_17",
  "Band_18",
  "Band_19",
  "Band_20",
  "Band_21",
  "Band_22",
  "Band_23",
  "Band_24",
  "Band_25",
  "Band_26",
  "Band_27",
  "Band_28",
  "Band_29",
  "Band_30",
  "Band_31",
  "Band_32",
  "Band_33",
  "Band_34",
  "Band_35",
  "Band_36",
  "Band_37"
 ],
 "allowCopy": true,
 "allowAnalysis": true,
 "itemAccess": false,
 "inspectionCapabilities": "",
 "minPixelSize": 0,
 "maxPixelSize": 0,
 "copyrightText": "",
 "serviceDataType": "esriImageServiceDataTypeGeneric",
 "serviceSourceType": "esriImageServiceSourceTypeDataset",
 "objectIdField": "",
 "fields": [],
 "capabilities": "Image,Metadata,Mensuration",
 "defaultMosaicMethod": "Center",
 "allowedMosaicMethods": "",
 "sortField": "",
 "sortValue": null,
 "sortAscending": true,
 "mosaicOperator": "First",
 "defaultCompressionQuality": 75,
 "defaultResamplingMethod": "Bilinear",
 "maxImageHeight": 4100,
 "maxImageWidth": 15000,
 "allowRasterFunction": true,
 "rasterFunctionInfos": [
  {
   "name": "None",
   "description": "",
   "help": ""
  }
 ],
 "rasterTypeInfos": [
  {
   "name": "Raster Dataset",
   "description": "Supports all ArcGIS Raster Datasets",
   "help": ""
  }
 ],
 "mensurationCapabilities": "Basic",
 "hasHistograms": true,
 "hasColormap": false,
 "hasRasterAttributeTable": false,
 "minScale": 0,
 "maxScale": 0,
 "exportTilesAllowed": false,
 "supportsStatistics": false,
 "supportsAdvancedQueries": false,
 "editFieldsInfo": null,
 "ownershipBasedAccessControlForRasters": null,
 "allowComputeTiePoints": false,
 "useStandardizedQueries": true,
 "advancedQueryCapabilities": {
  "useStandardizedQueries": true,
  "supportsStatistics": false,
  "supportsOrderBy": false,
  "supportsDistinct": false,
  "supportsPagination": false
 },
 "spatialReference": {
  "wkid": 4326,
  "latestWkid": 4326
 }
}
