{
 "currentVersion": 11.5,
 "serviceDescription": "NDWR_PMP/general_72hr_V3_tif",
 "serviceItemId": "c273e7bbc6e64e2ea1cdac21692533f5",
 "name": "NDWR_PMP/general_72hr_V3_tif",
 "description": "",
 "extent": {
  "xmin": -121.25035000000707,
  "ymin": 34.274429,
  "xmax": -112.4423690000142,
  "ymax": 43.115742,
  "spatialReference": {
   "wkid": 4326,
   "latestWkid": 4326
  }
 },
 "initialExtent": {
  "xmin": -121.25035000000707,
  "ymin": 34.274429,
  "xmax": -112.4423690000142,
  "ymax": 43.115742,
  "spatialReference": {
   "wkid": 4326,
   "latestWkid": 4326
  }
 },
 "fullExtent": {
  "xmin": -121.25035000000707,
  "ymin": 34.274429,
  "xmax": -112.4423690000142,
  "ymax": 43.115742,
  "spatialReference": {
   "wkid": 4326,
   "latestWkid": 4326
  }
 },
 "sortableFields": "",
 "bandCount": 37,
 "pixelType": "F64",
 "minValues": [
  7.7687003668838,
  7.6417318329098,
  7.4833905227541,
  7.4010824518879,
  7.3073891767367,
  7.2386807813419,
  7.2017713481673,
  7.1511527148355,
  7.1215335411064,
  7.0824120219443,
  6.8489171287495,
  6.6962065890224,
  6.5909767526341,
  6.5116047016584,
  6.4468945083444,
  6.3924062550237,
  6.3455434527338,
  6.3038167063662,
  6.2663747344285,
  6.0307071301225,
  5.8888779316256,
  5.7726145808312,
  5.6714504787804,
  5.5784756309614,
  5.4910803467256,
  5.4086361297291,
  5.3320319751062,
  5.2602071014902,
  4.7484606474935,
  4.4370630210707,
  4.2069270838841,
  4.0180961345577,
  3.8557459270904,
  3.7145260392484,
  3.5886835010241,
  3.4743238957309,
  3.3702278270792
 ],
 "maxValues": [
  45.980140809446,
  45.09403940302,
  44.15846501689,
  43.636701617616,
  43.101729167835,
  42.708284837416,
  42.481528668939,
  42.198412196592,
  42.045017385615,
  41.836297259762,
  40.728899184292,
  40.058757100204,
  39.589234498459,
  39.235966354848,
  38.941761161566,
  38.696463074236,
  38.473414456396,
  38.27384960996,
  38.09395272061,
  36.907352053336,
  36.193047716733,
  35.67613028724,
  35.260622719638,
  34.909090555888,
  34.593468256439,
  34.309467678,
  34.052673229842,
  33.814340569976,
  32.111433174583,
  31.013904195787,
  30.161058604442,
  29.397831139684,
  28.697385954212,
  28.059756817373,
  27.476929596632,
  26.947630247567,
  26.465976578689
 ],
 "meanValues": [
  15.364677981526,
  15.131965076348,
  14.91033236608,
  14.796844465646,
  14.646665752855,
  14.521567768099,
  14.450468908635,
  14.350869972662,
  14.293718258527,
  14.214145221834,
  13.787575667559,
  13.51722688158,
  13.339975765203,
  13.205865145879,
  13.084756309765,
  12.978609972013,
  12.886609458971,
  12.801827248571,
  12.722619237169,
  12.161249121767,
  11.77981755703,
  11.476617116747,
  11.22434387027,
  11.00413901568,
  10.804906164618,
  10.620091720924,
  10.452230531825,
  10.297473511249,
  9.2672057808553,
  8.6774485827967,
  8.2473039705107,
  7.8989634211972,
  7.603743333123,
  7.347706676769,
  7.1234280889912,
  6.9252708523791,
  6.7480469539912
 ],
 "stdvValues": [
  4.879957398408,
  4.7969948831943,
  4.7059131399044,
  4.6600536478678,
  4.6216905655908,
  4.6031507481795,
  4.5959950672207,
  4.595362926614,
  4.5946245283597,
  4.5910200192962,
  4.5506545505164,
  4.5153240053222,
  4.4775455909912,
  4.4386961726038,
  4.4021169090306,
  4.3703524614474,
  4.3423815990102,
  4.3162932212182,
  4.2918632523239,
  4.1151703151156,
  3.9928239638991,
  3.8971780378908,
  3.8189152720718,
  3.7527787985119,
  3.6953612111767,
  3.6441654804643,
  3.5994900008413,
  3.5595214049537,
  3.3397470472349,
  3.2415825272735,
  3.1720626444534,
  3.1154751697198,
  3.0683011583392,
  3.0272260989707,
  2.9905931734291,
  2.9577160803806,
  2.9273718308496
 ],
 "serviceProperties": "Center<\/MosaicMethod>First<\/MosaicOperator>true<\/SortAscending><\/LockImageID><\/TileOrderField>0<\/TileOrderBase>0.000000<\/AvgImageSpacingX>0.000000<\/AvgImageSpacingY>0.0<\/ViewPointX>0.0<\/ViewPointY>0.0<\/ViewPointDefShiftX>0.0<\/ViewPointDefShiftY>None<\/CompressionMethod>75<\/CompressionQuality>0.010000<\/CompressionTolerance>Bilinear<\/SamplingMethod><\/ImageServiceProperties><\/ImageServer>",
 "allowedFields": "",
 "hasMultidimensions": false,
 "pixelSizeX": 0.00832512381851879,
 "pixelSizeY": 0.008325153483992466,
 "meanPixelSize": 926.7501954411769,
 "datasetFormat": "TIFF",
 "uncompressedSize": 332584416,
 "blockWidth": 128,
 "blockHeight": 128,
 "compressionType": "LZW",
 "bandNames": [
  "Band_1",
  "Band_2",
  "Band_3",
  "Band_4",
  "Band_5",
  "Band_6",
  "Band_7",
  "Band_8",
  "Band_9",
  "Band_10",
  "Band_11",
  "Band_12",
  "Band_13",
  "Band_14",
  "Band_15",
  "Band_16",
  "Band_17",
  "Band_18",
  "Band_19",
  "Band_20",
  "Band_21",
  "Band_22",
  "Band_23",
  "Band_24",
  "Band_25",
  "Band_26",
  "Band_27",
  "Band_28",
  "Band_29",
  "Band_30",
  "Band_31",
  "Band_32",
  "Band_33",
  "Band_34",
  "Band_35",
  "Band_36",
  "Band_37"
 ],
 "allowCopy": true,
 "allowAnalysis": true,
 "itemAccess": false,
 "inspectionCapabilities": "",
 "minPixelSize": 0,
 "maxPixelSize": 0,
 "copyrightText": "",
 "serviceDataType": "esriImageServiceDataTypeGeneric",
 "serviceSourceType": "esriImageServiceSourceTypeDataset",
 "objectIdField": "",
 "fields": [],
 "capabilities": "Image,Metadata,Mensuration",
 "defaultMosaicMethod": "Center",
 "allowedMosaicMethods": "",
 "sortField": "",
 "sortValue": null,
 "sortAscending": true,
 "mosaicOperator": "First",
 "defaultCompressionQuality": 75,
 "defaultResamplingMethod": "Bilinear",
 "maxImageHeight": 4100,
 "maxImageWidth": 15000,
 "allowRasterFunction": true,
 "rasterFunctionInfos": [
  {
   "name": "None",
   "description": "",
   "help": ""
  }
 ],
 "rasterTypeInfos": [
  {
   "name": "Raster Dataset",
   "description": "Supports all ArcGIS Raster Datasets",
   "help": ""
  }
 ],
 "mensurationCapabilities": "Basic",
 "hasHistograms": true,
 "hasColormap": false,
 "hasRasterAttributeTable": false,
 "minScale": 0,
 "maxScale": 0,
 "exportTilesAllowed": false,
 "supportsStatistics": false,
 "supportsAdvancedQueries": false,
 "editFieldsInfo": null,
 "ownershipBasedAccessControlForRasters": null,
 "allowComputeTiePoints": false,
 "useStandardizedQueries": true,
 "advancedQueryCapabilities": {
  "useStandardizedQueries": true,
  "supportsStatistics": false,
  "supportsOrderBy": false,
  "supportsDistinct": false,
  "supportsPagination": false
 },
 "spatialReference": {
  "wkid": 4326,
  "latestWkid": 4326
 }
}
