{
 "currentVersion": 11.5,
 "serviceDescription": "NDWR_PMP/local_12hr_V3_tif",
 "serviceItemId": "49609168fd264ef59a55ff38b35a85b2",
 "name": "NDWR_PMP/local_12hr_V3_tif",
 "description": "",
 "extent": {
  "xmin": -121.25035000000707,
  "ymin": 34.274429,
  "xmax": -112.4423690000142,
  "ymax": 43.115742,
  "spatialReference": {
   "wkid": 4326,
   "latestWkid": 4326
  }
 },
 "initialExtent": {
  "xmin": -121.25035000000707,
  "ymin": 34.274429,
  "xmax": -112.4423690000142,
  "ymax": 43.115742,
  "spatialReference": {
   "wkid": 4326,
   "latestWkid": 4326
  }
 },
 "fullExtent": {
  "xmin": -121.25035000000707,
  "ymin": 34.274429,
  "xmax": -112.4423690000142,
  "ymax": 43.115742,
  "spatialReference": {
   "wkid": 4326,
   "latestWkid": 4326
  }
 },
 "sortableFields": "",
 "bandCount": 19,
 "pixelType": "F64",
 "minValues": [
  8.8368834829311,
  8.6530662025988,
  8.5803426444587,
  8.537660387408,
  8.4920837946011,
  8.4505854550601,
  8.4145211157506,
  8.3699054020113,
  8.3182768346417,
  8.2426800030323,
  7.9929769199154,
  7.6360615015591,
  7.5073115117624,
  7.3885418752639,
  7.2375085076021,
  7.1092343959564,
  7.0002840021837,
  6.918011885882,
  6.8635843138854
 ],
 "maxValues": [
  47.011316405845,
  46.53744611534,
  46.248369985825,
  46.01910264614,
  45.672989814623,
  45.390534822905,
  45.240054411634,
  45.023895276763,
  44.87800058142,
  44.660118347105,
  43.232269201197,
  42.456444524027,
  41.917240384271,
  41.474626958068,
  41.040867277363,
  40.666737980544,
  40.329000417646,
  40.025814857301,
  39.753813314774
 ],
 "meanValues": [
  12.974416038936,
  12.658900095371,
  12.46162401053,
  12.357504227465,
  12.223207395265,
  12.117315877534,
  12.045253150009,
  11.951266326189,
  11.895236473842,
  11.821367634289,
  11.40292547902,
  11.152841648456,
  10.958951449643,
  10.800100426424,
  10.656057841172,
  10.529908833535,
  10.416589834368,
  10.312956108601,
  10.218720581312
 ],
 "stdvValues": [
  3.8032510188528,
  3.7821249416929,
  3.7664755498822,
  3.7552469729958,
  3.7381504561479,
  3.727554250796,
  3.7271768837959,
  3.7236408565296,
  3.7192808766803,
  3.7103188663768,
  3.6375977272576,
  3.6035615042408,
  3.5771928440589,
  3.5538397202187,
  3.5250523301556,
  3.4985756548295,
  3.4728304573335,
  3.4484688774741,
  3.42547045346
 ],
 "serviceProperties": "Center<\/MosaicMethod>First<\/MosaicOperator>true<\/SortAscending><\/LockImageID><\/TileOrderField>0<\/TileOrderBase>0.000000<\/AvgImageSpacingX>0.000000<\/AvgImageSpacingY>0.0<\/ViewPointX>0.0<\/ViewPointY>0.0<\/ViewPointDefShiftX>0.0<\/ViewPointDefShiftY>None<\/CompressionMethod>75<\/CompressionQuality>0.010000<\/CompressionTolerance>Bilinear<\/SamplingMethod><\/ImageServiceProperties><\/ImageServer>",
 "allowedFields": "",
 "hasMultidimensions": false,
 "pixelSizeX": 0.00832512381851879,
 "pixelSizeY": 0.008325153483992466,
 "meanPixelSize": 926.7501954411769,
 "datasetFormat": "TIFF",
 "uncompressedSize": 170786592,
 "blockWidth": 128,
 "blockHeight": 128,
 "compressionType": "LZW",
 "bandNames": [
  "Band_1",
  "Band_2",
  "Band_3",
  "Band_4",
  "Band_5",
  "Band_6",
  "Band_7",
  "Band_8",
  "Band_9",
  "Band_10",
  "Band_11",
  "Band_12",
  "Band_13",
  "Band_14",
  "Band_15",
  "Band_16",
  "Band_17",
  "Band_18",
  "Band_19"
 ],
 "allowCopy": true,
 "allowAnalysis": true,
 "itemAccess": false,
 "inspectionCapabilities": "",
 "minPixelSize": 0,
 "maxPixelSize": 0,
 "copyrightText": "",
 "serviceDataType": "esriImageServiceDataTypeGeneric",
 "serviceSourceType": "esriImageServiceSourceTypeDataset",
 "objectIdField": "",
 "fields": [],
 "capabilities": "Image,Metadata,Mensuration",
 "defaultMosaicMethod": "Center",
 "allowedMosaicMethods": "",
 "sortField": "",
 "sortValue": null,
 "sortAscending": true,
 "mosaicOperator": "First",
 "defaultCompressionQuality": 75,
 "defaultResamplingMethod": "Bilinear",
 "maxImageHeight": 4100,
 "maxImageWidth": 15000,
 "allowRasterFunction": true,
 "rasterFunctionInfos": [
  {
   "name": "None",
   "description": "",
   "help": ""
  }
 ],
 "rasterTypeInfos": [
  {
   "name": "Raster Dataset",
   "description": "Supports all ArcGIS Raster Datasets",
   "help": ""
  }
 ],
 "mensurationCapabilities": "Basic",
 "hasHistograms": true,
 "hasColormap": false,
 "hasRasterAttributeTable": false,
 "minScale": 0,
 "maxScale": 0,
 "exportTilesAllowed": false,
 "supportsStatistics": false,
 "supportsAdvancedQueries": false,
 "editFieldsInfo": null,
 "ownershipBasedAccessControlForRasters": null,
 "allowComputeTiePoints": false,
 "useStandardizedQueries": true,
 "advancedQueryCapabilities": {
  "useStandardizedQueries": true,
  "supportsStatistics": false,
  "supportsOrderBy": false,
  "supportsDistinct": false,
  "supportsPagination": false
 },
 "spatialReference": {
  "wkid": 4326,
  "latestWkid": 4326
 }
}
