{
 "currentVersion": 11.5,
 "serviceDescription": "NDWR_PMP/local_1hr_V3_tif",
 "serviceItemId": "9f7e53c0fead4a13966a3f4964aab80d",
 "name": "NDWR_PMP/local_1hr_V3_tif",
 "description": "",
 "extent": {
  "xmin": -121.25035000000707,
  "ymin": 34.274429,
  "xmax": -112.4423690000142,
  "ymax": 43.115742,
  "spatialReference": {
   "wkid": 4326,
   "latestWkid": 4326
  }
 },
 "initialExtent": {
  "xmin": -121.25035000000707,
  "ymin": 34.274429,
  "xmax": -112.4423690000142,
  "ymax": 43.115742,
  "spatialReference": {
   "wkid": 4326,
   "latestWkid": 4326
  }
 },
 "fullExtent": {
  "xmin": -121.25035000000707,
  "ymin": 34.274429,
  "xmax": -112.4423690000142,
  "ymax": 43.115742,
  "spatialReference": {
   "wkid": 4326,
   "latestWkid": 4326
  }
 },
 "sortableFields": "",
 "bandCount": 19,
 "pixelType": "F64",
 "minValues": [
  1.4037774937504,
  1.3709708927039,
  1.353868700315,
  1.3447256019866,
  1.3332499253126,
  1.3255743183141,
  1.3204572469817,
  1.3141055822252,
  1.3103124531349,
  1.3047245683438,
  1.2658208188188,
  1.2399602967038,
  1.2206613204208,
  1.2062841644246,
  1.1940296794039,
  1.1836101810857,
  1.1747811529309,
  1.166839962126,
  1.1596743757749
 ],
 "maxValues": [
  11.294656415171,
  11.199239249124,
  11.14867586658,
  11.122288996167,
  11.092392438856,
  11.064466329455,
  11.04848809356,
  11.028008998076,
  11.014628078269,
  10.995396467878,
  10.852183105801,
  10.74054317929,
  10.63647802541,
  10.539029436214,
  10.433799816252,
  10.338638489725,
  10.244457825928,
  10.152325140378,
  10.06805003433
 ],
 "meanValues": [
  3.2478076696294,
  3.2150431203198,
  3.1928452519426,
  3.1809866131423,
  3.1654847790394,
  3.1522724157639,
  3.1443138366608,
  3.1330466805902,
  3.1254025132074,
  3.1144913983409,
  3.0297630523381,
  2.9573554822142,
  2.8927535832291,
  2.8334105354033,
  2.7771870176276,
  2.7266936736895,
  2.6811715170714,
  2.6403119530561,
  2.6031083236491
 ],
 "stdvValues": [
  1.5772979504054,
  1.5726599295287,
  1.5702420003363,
  1.5692106166298,
  1.5675683746059,
  1.564939404357,
  1.5634400588352,
  1.5613242131561,
  1.5594456763763,
  1.5570737972296,
  1.5399725205824,
  1.5230577384418,
  1.5056531276409,
  1.4884622739707,
  1.4716053558555,
  1.4582284735654,
  1.4462840764944,
  1.4352079269463,
  1.425206321079
 ],
 "serviceProperties": "Center<\/MosaicMethod>First<\/MosaicOperator>true<\/SortAscending><\/LockImageID><\/TileOrderField>0<\/TileOrderBase>0.000000<\/AvgImageSpacingX>0.000000<\/AvgImageSpacingY>0.0<\/ViewPointX>0.0<\/ViewPointY>0.0<\/ViewPointDefShiftX>0.0<\/ViewPointDefShiftY>None<\/CompressionMethod>75<\/CompressionQuality>0.010000<\/CompressionTolerance>Bilinear<\/SamplingMethod><\/ImageServiceProperties><\/ImageServer>",
 "allowedFields": "",
 "hasMultidimensions": false,
 "pixelSizeX": 0.00832512381851879,
 "pixelSizeY": 0.008325153483992466,
 "meanPixelSize": 926.7501954411769,
 "datasetFormat": "TIFF",
 "uncompressedSize": 170786592,
 "blockWidth": 128,
 "blockHeight": 128,
 "compressionType": "LZW",
 "bandNames": [
  "Band_1",
  "Band_2",
  "Band_3",
  "Band_4",
  "Band_5",
  "Band_6",
  "Band_7",
  "Band_8",
  "Band_9",
  "Band_10",
  "Band_11",
  "Band_12",
  "Band_13",
  "Band_14",
  "Band_15",
  "Band_16",
  "Band_17",
  "Band_18",
  "Band_19"
 ],
 "allowCopy": true,
 "allowAnalysis": true,
 "itemAccess": false,
 "inspectionCapabilities": "",
 "minPixelSize": 0,
 "maxPixelSize": 0,
 "copyrightText": "",
 "serviceDataType": "esriImageServiceDataTypeGeneric",
 "serviceSourceType": "esriImageServiceSourceTypeDataset",
 "objectIdField": "",
 "fields": [],
 "capabilities": "Image,Metadata,Mensuration",
 "defaultMosaicMethod": "Center",
 "allowedMosaicMethods": "",
 "sortField": "",
 "sortValue": null,
 "sortAscending": true,
 "mosaicOperator": "First",
 "defaultCompressionQuality": 75,
 "defaultResamplingMethod": "Bilinear",
 "maxImageHeight": 4100,
 "maxImageWidth": 15000,
 "allowRasterFunction": true,
 "rasterFunctionInfos": [
  {
   "name": "None",
   "description": "",
   "help": ""
  }
 ],
 "rasterTypeInfos": [
  {
   "name": "Raster Dataset",
   "description": "Supports all ArcGIS Raster Datasets",
   "help": ""
  }
 ],
 "mensurationCapabilities": "Basic",
 "hasHistograms": true,
 "hasColormap": false,
 "hasRasterAttributeTable": false,
 "minScale": 0,
 "maxScale": 0,
 "exportTilesAllowed": false,
 "supportsStatistics": false,
 "supportsAdvancedQueries": false,
 "editFieldsInfo": null,
 "ownershipBasedAccessControlForRasters": null,
 "allowComputeTiePoints": false,
 "useStandardizedQueries": true,
 "advancedQueryCapabilities": {
  "useStandardizedQueries": true,
  "supportsStatistics": false,
  "supportsOrderBy": false,
  "supportsDistinct": false,
  "supportsPagination": false
 },
 "spatialReference": {
  "wkid": 4326,
  "latestWkid": 4326
 }
}
