{
 "currentVersion": 11.5,
 "serviceDescription": "NDWR_PMP/local_24hr_V3_tif",
 "serviceItemId": "70e9204aad9443049ea6710a606777c3",
 "name": "NDWR_PMP/local_24hr_V3_tif",
 "description": "",
 "extent": {
  "xmin": -121.25035000000707,
  "ymin": 34.274429,
  "xmax": -112.4423690000142,
  "ymax": 43.115742,
  "spatialReference": {
   "wkid": 4326,
   "latestWkid": 4326
  }
 },
 "initialExtent": {
  "xmin": -121.25035000000707,
  "ymin": 34.274429,
  "xmax": -112.4423690000142,
  "ymax": 43.115742,
  "spatialReference": {
   "wkid": 4326,
   "latestWkid": 4326
  }
 },
 "fullExtent": {
  "xmin": -121.25035000000707,
  "ymin": 34.274429,
  "xmax": -112.4423690000142,
  "ymax": 43.115742,
  "spatialReference": {
   "wkid": 4326,
   "latestWkid": 4326
  }
 },
 "sortableFields": "",
 "bandCount": 19,
 "pixelType": "F64",
 "minValues": [
  13.9409183064,
  13.497735511502,
  12.981794329466,
  12.677750807766,
  12.474669340667,
  12.406661392354,
  12.363448359935,
  12.312803605689,
  12.244105641357,
  12.092159882076,
  11.407071561198,
  10.913982160304,
  10.757291832692,
  10.632753924035,
  10.519421584478,
  10.417196758521,
  10.323284029022,
  10.235486844468,
  10.157767932644
 ],
 "maxValues": [
  50.208792263742,
  49.714985865962,
  49.413257436055,
  49.185907749771,
  48.863977673349,
  48.570468466327,
  48.410063236526,
  48.177189166948,
  48.022467670726,
  47.809359204137,
  46.440799512646,
  45.699532878521,
  45.196996821215,
  44.828489282444,
  44.523436015329,
  44.232309444572,
  43.947195123933,
  43.687907459412,
  43.43808957736
 ],
 "meanValues": [
  18.086550045528,
  17.395313853271,
  16.912606347366,
  16.689893003094,
  16.418899930972,
  16.219766935604,
  16.108304779677,
  15.967300197603,
  15.885491885724,
  15.778789427906,
  15.166149021789,
  14.799783608554,
  14.540490946904,
  14.340282461743,
  14.16705387066,
  14.015765898314,
  13.879334771359,
  13.758585395919,
  13.650557276313
 ],
 "stdvValues": [
  3.1589437758024,
  3.0614942955664,
  3.0972627154585,
  3.1201248806948,
  3.1461280930648,
  3.1589735906069,
  3.1650152702149,
  3.1691044628054,
  3.1684729723466,
  3.1674125124344,
  3.1591754458119,
  3.1490410658962,
  3.1355720692574,
  3.1239332628584,
  3.1163364703654,
  3.1066117327274,
  3.0917055808005,
  3.0753732283326,
  3.0575384219259
 ],
 "serviceProperties": "Center<\/MosaicMethod>First<\/MosaicOperator>true<\/SortAscending><\/LockImageID><\/TileOrderField>0<\/TileOrderBase>0.000000<\/AvgImageSpacingX>0.000000<\/AvgImageSpacingY>0.0<\/ViewPointX>0.0<\/ViewPointY>0.0<\/ViewPointDefShiftX>0.0<\/ViewPointDefShiftY>None<\/CompressionMethod>75<\/CompressionQuality>0.010000<\/CompressionTolerance>Bilinear<\/SamplingMethod><\/ImageServiceProperties><\/ImageServer>",
 "allowedFields": "",
 "hasMultidimensions": false,
 "pixelSizeX": 0.00832512381851879,
 "pixelSizeY": 0.008325153483992466,
 "meanPixelSize": 926.7501954411769,
 "datasetFormat": "TIFF",
 "uncompressedSize": 170786592,
 "blockWidth": 128,
 "blockHeight": 128,
 "compressionType": "LZW",
 "bandNames": [
  "Band_1",
  "Band_2",
  "Band_3",
  "Band_4",
  "Band_5",
  "Band_6",
  "Band_7",
  "Band_8",
  "Band_9",
  "Band_10",
  "Band_11",
  "Band_12",
  "Band_13",
  "Band_14",
  "Band_15",
  "Band_16",
  "Band_17",
  "Band_18",
  "Band_19"
 ],
 "allowCopy": true,
 "allowAnalysis": true,
 "itemAccess": false,
 "inspectionCapabilities": "",
 "minPixelSize": 0,
 "maxPixelSize": 0,
 "copyrightText": "",
 "serviceDataType": "esriImageServiceDataTypeGeneric",
 "serviceSourceType": "esriImageServiceSourceTypeDataset",
 "objectIdField": "",
 "fields": [],
 "capabilities": "Image,Metadata,Mensuration",
 "defaultMosaicMethod": "Center",
 "allowedMosaicMethods": "",
 "sortField": "",
 "sortValue": null,
 "sortAscending": true,
 "mosaicOperator": "First",
 "defaultCompressionQuality": 75,
 "defaultResamplingMethod": "Bilinear",
 "maxImageHeight": 4100,
 "maxImageWidth": 15000,
 "allowRasterFunction": true,
 "rasterFunctionInfos": [
  {
   "name": "None",
   "description": "",
   "help": ""
  }
 ],
 "rasterTypeInfos": [
  {
   "name": "Raster Dataset",
   "description": "Supports all ArcGIS Raster Datasets",
   "help": ""
  }
 ],
 "mensurationCapabilities": "Basic",
 "hasHistograms": true,
 "hasColormap": false,
 "hasRasterAttributeTable": false,
 "minScale": 0,
 "maxScale": 0,
 "exportTilesAllowed": false,
 "supportsStatistics": false,
 "supportsAdvancedQueries": false,
 "editFieldsInfo": null,
 "ownershipBasedAccessControlForRasters": null,
 "allowComputeTiePoints": false,
 "useStandardizedQueries": true,
 "advancedQueryCapabilities": {
  "useStandardizedQueries": true,
  "supportsStatistics": false,
  "supportsOrderBy": false,
  "supportsDistinct": false,
  "supportsPagination": false
 },
 "spatialReference": {
  "wkid": 4326,
  "latestWkid": 4326
 }
}
