{
 "currentVersion": 11.5,
 "serviceDescription": "NDWR_PMP/local_2hr_V3_tif",
 "serviceItemId": "bcb0a742c1e94d5aa6e34d8cbe0daa31",
 "name": "NDWR_PMP/local_2hr_V3_tif",
 "description": "",
 "extent": {
  "xmin": -121.25035000000707,
  "ymin": 34.274429,
  "xmax": -112.4423690000142,
  "ymax": 43.115742,
  "spatialReference": {
   "wkid": 4326,
   "latestWkid": 4326
  }
 },
 "initialExtent": {
  "xmin": -121.25035000000707,
  "ymin": 34.274429,
  "xmax": -112.4423690000142,
  "ymax": 43.115742,
  "spatialReference": {
   "wkid": 4326,
   "latestWkid": 4326
  }
 },
 "fullExtent": {
  "xmin": -121.25035000000707,
  "ymin": 34.274429,
  "xmax": -112.4423690000142,
  "ymax": 43.115742,
  "spatialReference": {
   "wkid": 4326,
   "latestWkid": 4326
  }
 },
 "sortableFields": "",
 "bandCount": 19,
 "pixelType": "F64",
 "minValues": [
  2.9562402338494,
  2.8214410161597,
  2.7218431009082,
  2.6845589491895,
  2.6459351020319,
  2.6209104871656,
  2.6071932838971,
  2.5895304124186,
  2.577316885605,
  2.5613647541229,
  2.4536915519766,
  2.3831125499984,
  2.3271601005297,
  2.2843909570006,
  2.2450006935872,
  2.2090414066056,
  2.1770360191486,
  2.1466744981755,
  2.1175777195442
 ],
 "maxValues": [
  14.285448390337,
  14.241450303781,
  14.217355528781,
  14.195289096771,
  14.163120907075,
  14.139328092246,
  14.123196978404,
  14.103334705893,
  14.085113565467,
  14.056137082349,
  13.776105090678,
  13.511438305919,
  13.2723921935,
  13.074179926938,
  12.88617274365,
  12.723932736007,
  12.580852807709,
  12.446053314083,
  12.318858252242
 ],
 "meanValues": [
  5.1230711920444,
  5.0547785097752,
  5.0108385747369,
  4.9897669002219,
  4.9618238055415,
  4.937737237068,
  4.9234635290146,
  4.9043890422137,
  4.8923139955305,
  4.8762530664768,
  4.7283612567428,
  4.5995041279837,
  4.490119684625,
  4.3955543547496,
  4.3048781565279,
  4.2214944399369,
  4.1443574325236,
  4.0724773996982,
  4.0038866128912
 ],
 "stdvValues": [
  1.7627187460906,
  1.7982779315402,
  1.8197110953612,
  1.8273514048503,
  1.8367529432733,
  1.8424689707382,
  1.8441955377295,
  1.8458441699182,
  1.8461591893989,
  1.845711440723,
  1.8313361046785,
  1.8135308846386,
  1.797634171373,
  1.7836811652863,
  1.7720218529881,
  1.7641813367395,
  1.7583436716353,
  1.7534647123239,
  1.7494914006354
 ],
 "serviceProperties": "Center<\/MosaicMethod>First<\/MosaicOperator>true<\/SortAscending><\/LockImageID><\/TileOrderField>0<\/TileOrderBase>0.000000<\/AvgImageSpacingX>0.000000<\/AvgImageSpacingY>0.0<\/ViewPointX>0.0<\/ViewPointY>0.0<\/ViewPointDefShiftX>0.0<\/ViewPointDefShiftY>None<\/CompressionMethod>75<\/CompressionQuality>0.010000<\/CompressionTolerance>Bilinear<\/SamplingMethod><\/ImageServiceProperties><\/ImageServer>",
 "allowedFields": "",
 "hasMultidimensions": false,
 "pixelSizeX": 0.00832512381851879,
 "pixelSizeY": 0.008325153483992466,
 "meanPixelSize": 926.7501954411769,
 "datasetFormat": "TIFF",
 "uncompressedSize": 170786592,
 "blockWidth": 128,
 "blockHeight": 128,
 "compressionType": "LZW",
 "bandNames": [
  "Band_1",
  "Band_2",
  "Band_3",
  "Band_4",
  "Band_5",
  "Band_6",
  "Band_7",
  "Band_8",
  "Band_9",
  "Band_10",
  "Band_11",
  "Band_12",
  "Band_13",
  "Band_14",
  "Band_15",
  "Band_16",
  "Band_17",
  "Band_18",
  "Band_19"
 ],
 "allowCopy": true,
 "allowAnalysis": true,
 "itemAccess": false,
 "inspectionCapabilities": "",
 "minPixelSize": 0,
 "maxPixelSize": 0,
 "copyrightText": "",
 "serviceDataType": "esriImageServiceDataTypeGeneric",
 "serviceSourceType": "esriImageServiceSourceTypeDataset",
 "objectIdField": "",
 "fields": [],
 "capabilities": "Image,Metadata,Mensuration",
 "defaultMosaicMethod": "Center",
 "allowedMosaicMethods": "",
 "sortField": "",
 "sortValue": null,
 "sortAscending": true,
 "mosaicOperator": "First",
 "defaultCompressionQuality": 75,
 "defaultResamplingMethod": "Bilinear",
 "maxImageHeight": 4100,
 "maxImageWidth": 15000,
 "allowRasterFunction": true,
 "rasterFunctionInfos": [
  {
   "name": "None",
   "description": "",
   "help": ""
  }
 ],
 "rasterTypeInfos": [
  {
   "name": "Raster Dataset",
   "description": "Supports all ArcGIS Raster Datasets",
   "help": ""
  }
 ],
 "mensurationCapabilities": "Basic",
 "hasHistograms": true,
 "hasColormap": false,
 "hasRasterAttributeTable": false,
 "minScale": 0,
 "maxScale": 0,
 "exportTilesAllowed": false,
 "supportsStatistics": false,
 "supportsAdvancedQueries": false,
 "editFieldsInfo": null,
 "ownershipBasedAccessControlForRasters": null,
 "allowComputeTiePoints": false,
 "useStandardizedQueries": true,
 "advancedQueryCapabilities": {
  "useStandardizedQueries": true,
  "supportsStatistics": false,
  "supportsOrderBy": false,
  "supportsDistinct": false,
  "supportsPagination": false
 },
 "spatialReference": {
  "wkid": 4326,
  "latestWkid": 4326
 }
}
