{
 "currentVersion": 11.5,
 "serviceDescription": "NDWR_PMP/local_3hr_V3_tif",
 "serviceItemId": "6840f774bf0d4e02bdb02c8ea35e60b2",
 "name": "NDWR_PMP/local_3hr_V3_tif",
 "description": "",
 "extent": {
  "xmin": -121.25035000000707,
  "ymin": 34.274429,
  "xmax": -112.4423690000142,
  "ymax": 43.115742,
  "spatialReference": {
   "wkid": 4326,
   "latestWkid": 4326
  }
 },
 "initialExtent": {
  "xmin": -121.25035000000707,
  "ymin": 34.274429,
  "xmax": -112.4423690000142,
  "ymax": 43.115742,
  "spatialReference": {
   "wkid": 4326,
   "latestWkid": 4326
  }
 },
 "fullExtent": {
  "xmin": -121.25035000000707,
  "ymin": 34.274429,
  "xmax": -112.4423690000142,
  "ymax": 43.115742,
  "spatialReference": {
   "wkid": 4326,
   "latestWkid": 4326
  }
 },
 "sortableFields": "",
 "bandCount": 19,
 "pixelType": "F64",
 "minValues": [
  4.0743771020725,
  4.037839990102,
  3.8810094646068,
  3.7957337108068,
  3.6753908244091,
  3.578376688864,
  3.5184628143149,
  3.4442498001479,
  3.4012183258703,
  3.3433627939476,
  3.0532574374396,
  2.900592932978,
  2.8030989694628,
  2.7279897904762,
  2.6639630894638,
  2.6095281188268,
  2.5626282578465,
  2.5218917026367,
  2.4861601079767
 ],
 "maxValues": [
  15.5880993384,
  15.552613127381,
  15.520378690259,
  15.500363432305,
  15.47747241868,
  15.452689406591,
  15.435660850522,
  15.409095796713,
  15.391781375817,
  15.363846651111,
  15.116545524781,
  14.917212504186,
  14.757947503491,
  14.631246821678,
  14.523230545187,
  14.422868455834,
  14.332027579776,
  14.24677029291,
  14.163013370053
 ],
 "meanValues": [
  6.3735116691009,
  6.2782501204558,
  6.2167525119371,
  6.1826781015384,
  6.1384040040562,
  6.1018646201937,
  6.0790950968376,
  6.0480619047281,
  6.029312424922,
  6.0018466153582,
  5.7961137251025,
  5.6472630114995,
  5.5195939072698,
  5.4089930130043,
  5.3041636510796,
  5.2065592807762,
  5.1153701389939,
  5.0288000227745,
  4.9485636416552
 ],
 "stdvValues": [
  1.8016897797293,
  1.8191450013977,
  1.8381659387427,
  1.8507194492221,
  1.8697562841508,
  1.884975358768,
  1.8947566190071,
  1.9067455085013,
  1.9135409774939,
  1.9229765155543,
  1.9624547601476,
  1.9750642681969,
  1.9785852796144,
  1.9808679805029,
  1.98167721111,
  1.9811760589158,
  1.9800778003302,
  1.9783907707043,
  1.9756907794678
 ],
 "serviceProperties": "Center<\/MosaicMethod>First<\/MosaicOperator>true<\/SortAscending><\/LockImageID><\/TileOrderField>0<\/TileOrderBase>0.000000<\/AvgImageSpacingX>0.000000<\/AvgImageSpacingY>0.0<\/ViewPointX>0.0<\/ViewPointY>0.0<\/ViewPointDefShiftX>0.0<\/ViewPointDefShiftY>None<\/CompressionMethod>75<\/CompressionQuality>0.010000<\/CompressionTolerance>Bilinear<\/SamplingMethod><\/ImageServiceProperties><\/ImageServer>",
 "allowedFields": "",
 "hasMultidimensions": false,
 "pixelSizeX": 0.00832512381851879,
 "pixelSizeY": 0.008325153483992466,
 "meanPixelSize": 926.7501954411769,
 "datasetFormat": "TIFF",
 "uncompressedSize": 170786592,
 "blockWidth": 128,
 "blockHeight": 128,
 "compressionType": "LZW",
 "bandNames": [
  "Band_1",
  "Band_2",
  "Band_3",
  "Band_4",
  "Band_5",
  "Band_6",
  "Band_7",
  "Band_8",
  "Band_9",
  "Band_10",
  "Band_11",
  "Band_12",
  "Band_13",
  "Band_14",
  "Band_15",
  "Band_16",
  "Band_17",
  "Band_18",
  "Band_19"
 ],
 "allowCopy": true,
 "allowAnalysis": true,
 "itemAccess": false,
 "inspectionCapabilities": "",
 "minPixelSize": 0,
 "maxPixelSize": 0,
 "copyrightText": "",
 "serviceDataType": "esriImageServiceDataTypeGeneric",
 "serviceSourceType": "esriImageServiceSourceTypeDataset",
 "objectIdField": "",
 "fields": [],
 "capabilities": "Image,Metadata,Mensuration",
 "defaultMosaicMethod": "Center",
 "allowedMosaicMethods": "",
 "sortField": "",
 "sortValue": null,
 "sortAscending": true,
 "mosaicOperator": "First",
 "defaultCompressionQuality": 75,
 "defaultResamplingMethod": "Bilinear",
 "maxImageHeight": 4100,
 "maxImageWidth": 15000,
 "allowRasterFunction": true,
 "rasterFunctionInfos": [
  {
   "name": "None",
   "description": "",
   "help": ""
  }
 ],
 "rasterTypeInfos": [
  {
   "name": "Raster Dataset",
   "description": "Supports all ArcGIS Raster Datasets",
   "help": ""
  }
 ],
 "mensurationCapabilities": "Basic",
 "hasHistograms": true,
 "hasColormap": false,
 "hasRasterAttributeTable": false,
 "minScale": 0,
 "maxScale": 0,
 "exportTilesAllowed": false,
 "supportsStatistics": false,
 "supportsAdvancedQueries": false,
 "editFieldsInfo": null,
 "ownershipBasedAccessControlForRasters": null,
 "allowComputeTiePoints": false,
 "useStandardizedQueries": true,
 "advancedQueryCapabilities": {
  "useStandardizedQueries": true,
  "supportsStatistics": false,
  "supportsOrderBy": false,
  "supportsDistinct": false,
  "supportsPagination": false
 },
 "spatialReference": {
  "wkid": 4326,
  "latestWkid": 4326
 }
}
