{
 "currentVersion": 11.5,
 "serviceDescription": "NDWR_PMP/local_4hr_V3_tif",
 "serviceItemId": "22709d441884497e9bcc3a4e8e6c3fff",
 "name": "NDWR_PMP/local_4hr_V3_tif",
 "description": "",
 "extent": {
  "xmin": -121.25035000000707,
  "ymin": 34.274429,
  "xmax": -112.4423690000142,
  "ymax": 43.115742,
  "spatialReference": {
   "wkid": 4326,
   "latestWkid": 4326
  }
 },
 "initialExtent": {
  "xmin": -121.25035000000707,
  "ymin": 34.274429,
  "xmax": -112.4423690000142,
  "ymax": 43.115742,
  "spatialReference": {
   "wkid": 4326,
   "latestWkid": 4326
  }
 },
 "fullExtent": {
  "xmin": -121.25035000000707,
  "ymin": 34.274429,
  "xmax": -112.4423690000142,
  "ymax": 43.115742,
  "spatialReference": {
   "wkid": 4326,
   "latestWkid": 4326
  }
 },
 "sortableFields": "",
 "bandCount": 19,
 "pixelType": "F64",
 "minValues": [
  4.2460965749155,
  4.2210116174316,
  4.204016716462,
  4.1906951874539,
  4.0585152877434,
  3.9525000908071,
  3.8840728621685,
  3.801595849615,
  3.7531376549515,
  3.6876223925903,
  3.382424897692,
  3.2758228388789,
  3.2227249407886,
  3.1810983489266,
  3.1413724009048,
  3.0849376961997,
  3.0303185589786,
  2.9834119731267,
  2.9415762838816
 ],
 "maxValues": [
  18.122607374224,
  18.10801487636,
  18.097015103154,
  18.084808155934,
  18.055659448989,
  18.02576576576,
  18.005455874477,
  17.979895263305,
  17.965294533167,
  17.940233493978,
  17.70089586619,
  17.512498812345,
  17.352770058529,
  17.214432417617,
  17.088017660166,
  16.976510639879,
  16.871615449231,
  16.765982608585,
  16.656986576871
 ],
 "meanValues": [
  6.9338883369161,
  6.8416140779245,
  6.7762892178274,
  6.738119899964,
  6.6874595969903,
  6.6460539996733,
  6.6197135835155,
  6.5852685137481,
  6.5640337214975,
  6.5322292549563,
  6.3160592368196,
  6.1561053665294,
  6.0251100416997,
  5.9145109429351,
  5.8107391221964,
  5.7159070257814,
  5.6313876451462,
  5.555705875787,
  5.486805684544
 ],
 "stdvValues": [
  2.2867409306253,
  2.306534592788,
  2.3220539266199,
  2.3300370332969,
  2.3435057008732,
  2.3543169870625,
  2.3613007639348,
  2.3696319345469,
  2.3750555279153,
  2.3824252432687,
  2.4074846706454,
  2.4097016485429,
  2.4090094364049,
  2.4098035784053,
  2.4112433711971,
  2.4132468267326,
  2.4142118373927,
  2.4129529284237,
  2.4095214134128
 ],
 "serviceProperties": "Center<\/MosaicMethod>First<\/MosaicOperator>true<\/SortAscending><\/LockImageID><\/TileOrderField>0<\/TileOrderBase>0.000000<\/AvgImageSpacingX>0.000000<\/AvgImageSpacingY>0.0<\/ViewPointX>0.0<\/ViewPointY>0.0<\/ViewPointDefShiftX>0.0<\/ViewPointDefShiftY>None<\/CompressionMethod>75<\/CompressionQuality>0.010000<\/CompressionTolerance>Bilinear<\/SamplingMethod><\/ImageServiceProperties><\/ImageServer>",
 "allowedFields": "",
 "hasMultidimensions": false,
 "pixelSizeX": 0.00832512381851879,
 "pixelSizeY": 0.008325153483992466,
 "meanPixelSize": 926.7501954411769,
 "datasetFormat": "TIFF",
 "uncompressedSize": 170786592,
 "blockWidth": 128,
 "blockHeight": 128,
 "compressionType": "LZW",
 "bandNames": [
  "Band_1",
  "Band_2",
  "Band_3",
  "Band_4",
  "Band_5",
  "Band_6",
  "Band_7",
  "Band_8",
  "Band_9",
  "Band_10",
  "Band_11",
  "Band_12",
  "Band_13",
  "Band_14",
  "Band_15",
  "Band_16",
  "Band_17",
  "Band_18",
  "Band_19"
 ],
 "allowCopy": true,
 "allowAnalysis": true,
 "itemAccess": false,
 "inspectionCapabilities": "",
 "minPixelSize": 0,
 "maxPixelSize": 0,
 "copyrightText": "",
 "serviceDataType": "esriImageServiceDataTypeGeneric",
 "serviceSourceType": "esriImageServiceSourceTypeDataset",
 "objectIdField": "",
 "fields": [],
 "capabilities": "Image,Metadata,Mensuration",
 "defaultMosaicMethod": "Center",
 "allowedMosaicMethods": "",
 "sortField": "",
 "sortValue": null,
 "sortAscending": true,
 "mosaicOperator": "First",
 "defaultCompressionQuality": 75,
 "defaultResamplingMethod": "Bilinear",
 "maxImageHeight": 4100,
 "maxImageWidth": 15000,
 "allowRasterFunction": true,
 "rasterFunctionInfos": [
  {
   "name": "None",
   "description": "",
   "help": ""
  }
 ],
 "rasterTypeInfos": [
  {
   "name": "Raster Dataset",
   "description": "Supports all ArcGIS Raster Datasets",
   "help": ""
  }
 ],
 "mensurationCapabilities": "Basic",
 "hasHistograms": true,
 "hasColormap": false,
 "hasRasterAttributeTable": false,
 "minScale": 0,
 "maxScale": 0,
 "exportTilesAllowed": false,
 "supportsStatistics": false,
 "supportsAdvancedQueries": false,
 "editFieldsInfo": null,
 "ownershipBasedAccessControlForRasters": null,
 "allowComputeTiePoints": false,
 "useStandardizedQueries": true,
 "advancedQueryCapabilities": {
  "useStandardizedQueries": true,
  "supportsStatistics": false,
  "supportsOrderBy": false,
  "supportsDistinct": false,
  "supportsPagination": false
 },
 "spatialReference": {
  "wkid": 4326,
  "latestWkid": 4326
 }
}
