{
 "currentVersion": 11.5,
 "serviceDescription": "NDWR_PMP/local_5hr_V3_tif",
 "serviceItemId": "6c472b72d3db40d282ef6a20686018e6",
 "name": "NDWR_PMP/local_5hr_V3_tif",
 "description": "",
 "extent": {
  "xmin": -121.25035000000707,
  "ymin": 34.274429,
  "xmax": -112.4423690000142,
  "ymax": 43.115742,
  "spatialReference": {
   "wkid": 4326,
   "latestWkid": 4326
  }
 },
 "initialExtent": {
  "xmin": -121.25035000000707,
  "ymin": 34.274429,
  "xmax": -112.4423690000142,
  "ymax": 43.115742,
  "spatialReference": {
   "wkid": 4326,
   "latestWkid": 4326
  }
 },
 "fullExtent": {
  "xmin": -121.25035000000707,
  "ymin": 34.274429,
  "xmax": -112.4423690000142,
  "ymax": 43.115742,
  "spatialReference": {
   "wkid": 4326,
   "latestWkid": 4326
  }
 },
 "sortableFields": "",
 "bandCount": 19,
 "pixelType": "F64",
 "minValues": [
  5.2170624871816,
  5.0195637216817,
  4.9069833427906,
  4.8512137526657,
  4.7855485986797,
  4.7314949934994,
  4.7030153133261,
  4.5983580111295,
  4.5359241277338,
  4.4530822426353,
  4.0676719320951,
  3.8791846192403,
  3.7519200092001,
  3.6545766572394,
  3.5753087747969,
  3.5097075973869,
  3.452348464931,
  3.4020931168745,
  3.3582123413595
 ],
 "maxValues": [
  19.54523709502,
  19.178716082467,
  18.945231250818,
  18.78612422678,
  18.590300242195,
  18.515349655272,
  18.498167168683,
  18.473265822264,
  18.457141596311,
  18.427712211906,
  18.174856452352,
  17.948295259963,
  17.761383739418,
  17.607459753679,
  17.46320426587,
  17.337759649317,
  17.225081750357,
  17.114451096149,
  17.005525834912
 ],
 "meanValues": [
  7.87353490911,
  7.6344950138569,
  7.4910277140121,
  7.4264975647723,
  7.345971431517,
  7.2838397723453,
  7.2442558064817,
  7.1921407912322,
  7.16143085826,
  7.1197899909721,
  6.865447596276,
  6.6934443796834,
  6.5541173589392,
  6.4387385896995,
  6.3328320447607,
  6.2373499822744,
  6.152606464822,
  6.0756182922161,
  6.0051658509129
 ],
 "stdvValues": [
  2.4165794392406,
  2.4080726541389,
  2.4018345308173,
  2.4030301830538,
  2.409903467646,
  2.4168212424848,
  2.4235230911242,
  2.4320289283902,
  2.436703506197,
  2.4424612841224,
  2.456172942059,
  2.4505886854721,
  2.4427458007819,
  2.4386167171986,
  2.4347652700062,
  2.4310934019605,
  2.4280536632448,
  2.4241420186351,
  2.4193014518985
 ],
 "serviceProperties": "Center<\/MosaicMethod>First<\/MosaicOperator>true<\/SortAscending><\/LockImageID><\/TileOrderField>0<\/TileOrderBase>0.000000<\/AvgImageSpacingX>0.000000<\/AvgImageSpacingY>0.0<\/ViewPointX>0.0<\/ViewPointY>0.0<\/ViewPointDefShiftX>0.0<\/ViewPointDefShiftY>None<\/CompressionMethod>75<\/CompressionQuality>0.010000<\/CompressionTolerance>Bilinear<\/SamplingMethod><\/ImageServiceProperties><\/ImageServer>",
 "allowedFields": "",
 "hasMultidimensions": false,
 "pixelSizeX": 0.00832512381851879,
 "pixelSizeY": 0.008325153483992466,
 "meanPixelSize": 926.7501954411769,
 "datasetFormat": "TIFF",
 "uncompressedSize": 170786592,
 "blockWidth": 128,
 "blockHeight": 128,
 "compressionType": "LZW",
 "bandNames": [
  "Band_1",
  "Band_2",
  "Band_3",
  "Band_4",
  "Band_5",
  "Band_6",
  "Band_7",
  "Band_8",
  "Band_9",
  "Band_10",
  "Band_11",
  "Band_12",
  "Band_13",
  "Band_14",
  "Band_15",
  "Band_16",
  "Band_17",
  "Band_18",
  "Band_19"
 ],
 "allowCopy": true,
 "allowAnalysis": true,
 "itemAccess": false,
 "inspectionCapabilities": "",
 "minPixelSize": 0,
 "maxPixelSize": 0,
 "copyrightText": "",
 "serviceDataType": "esriImageServiceDataTypeGeneric",
 "serviceSourceType": "esriImageServiceSourceTypeDataset",
 "objectIdField": "",
 "fields": [],
 "capabilities": "Image,Metadata,Mensuration",
 "defaultMosaicMethod": "Center",
 "allowedMosaicMethods": "",
 "sortField": "",
 "sortValue": null,
 "sortAscending": true,
 "mosaicOperator": "First",
 "defaultCompressionQuality": 75,
 "defaultResamplingMethod": "Bilinear",
 "maxImageHeight": 4100,
 "maxImageWidth": 15000,
 "allowRasterFunction": true,
 "rasterFunctionInfos": [
  {
   "name": "None",
   "description": "",
   "help": ""
  }
 ],
 "rasterTypeInfos": [
  {
   "name": "Raster Dataset",
   "description": "Supports all ArcGIS Raster Datasets",
   "help": ""
  }
 ],
 "mensurationCapabilities": "Basic",
 "hasHistograms": true,
 "hasColormap": false,
 "hasRasterAttributeTable": false,
 "minScale": 0,
 "maxScale": 0,
 "exportTilesAllowed": false,
 "supportsStatistics": false,
 "supportsAdvancedQueries": false,
 "editFieldsInfo": null,
 "ownershipBasedAccessControlForRasters": null,
 "allowComputeTiePoints": false,
 "useStandardizedQueries": true,
 "advancedQueryCapabilities": {
  "useStandardizedQueries": true,
  "supportsStatistics": false,
  "supportsOrderBy": false,
  "supportsDistinct": false,
  "supportsPagination": false
 },
 "spatialReference": {
  "wkid": 4326,
  "latestWkid": 4326
 }
}
