{
 "currentVersion": 11.5,
 "serviceDescription": "NDWR_PMP/local_6hr_V3_tif",
 "serviceItemId": "fa858ecdf5104a50a2f5d326245ec33e",
 "name": "NDWR_PMP/local_6hr_V3_tif",
 "description": "",
 "extent": {
  "xmin": -121.25035000000707,
  "ymin": 34.274429,
  "xmax": -112.4423690000142,
  "ymax": 43.115742,
  "spatialReference": {
   "wkid": 4326,
   "latestWkid": 4326
  }
 },
 "initialExtent": {
  "xmin": -121.25035000000707,
  "ymin": 34.274429,
  "xmax": -112.4423690000142,
  "ymax": 43.115742,
  "spatialReference": {
   "wkid": 4326,
   "latestWkid": 4326
  }
 },
 "fullExtent": {
  "xmin": -121.25035000000707,
  "ymin": 34.274429,
  "xmax": -112.4423690000142,
  "ymax": 43.115742,
  "spatialReference": {
   "wkid": 4326,
   "latestWkid": 4326
  }
 },
 "sortableFields": "",
 "bandCount": 19,
 "pixelType": "F64",
 "minValues": [
  5.2289598254615,
  5.1302106923315,
  5.0787538306012,
  5.0510920765924,
  5.0107679949444,
  4.9772531032764,
  4.9589523842127,
  4.9326550934593,
  4.9165207691111,
  4.8946854213033,
  4.7561479828479,
  4.6535781039736,
  4.5682472491261,
  4.4952796141311,
  4.4278347567542,
  4.3681439602452,
  4.3138855720139,
  4.2634962191282,
  4.21750027166
 ],
 "maxValues": [
  23.800870355313,
  23.432814752035,
  23.12610235381,
  23.001883985508,
  22.79461721629,
  22.598940721005,
  22.493082346745,
  22.350558543281,
  22.26597450976,
  22.156573599223,
  21.386395052152,
  20.802248963098,
  20.376308710103,
  20.077449057815,
  19.835772081369,
  19.634706302216,
  19.456593591589,
  19.299839706932,
  19.159092779187
 ],
 "meanValues": [
  8.3765741200006,
  8.1166826867046,
  7.9567323415356,
  7.8832790619594,
  7.7902328714128,
  7.7213990254608,
  7.6816232489933,
  7.6278195652628,
  7.5957957146689,
  7.5529422306034,
  7.3038128016546,
  7.1429148005491,
  7.0115475930745,
  6.9053054606411,
  6.8111734405111,
  6.7290821913358,
  6.6564379061821,
  6.5909039244535,
  6.5304995195484
 ],
 "stdvValues": [
  2.8357604078767,
  2.7255474346599,
  2.6697926228852,
  2.6539389331723,
  2.6439129702432,
  2.6389723497292,
  2.6378634969018,
  2.6332866983347,
  2.630955854582,
  2.6279165680764,
  2.5930917888103,
  2.5593631237007,
  2.5303813063492,
  2.5089849322254,
  2.4885712260821,
  2.4710107801059,
  2.4549124088865,
  2.4405239830747,
  2.4267491419621
 ],
 "serviceProperties": "Center<\/MosaicMethod>First<\/MosaicOperator>true<\/SortAscending><\/LockImageID><\/TileOrderField>0<\/TileOrderBase>0.000000<\/AvgImageSpacingX>0.000000<\/AvgImageSpacingY>0.0<\/ViewPointX>0.0<\/ViewPointY>0.0<\/ViewPointDefShiftX>0.0<\/ViewPointDefShiftY>None<\/CompressionMethod>75<\/CompressionQuality>0.010000<\/CompressionTolerance>Bilinear<\/SamplingMethod><\/ImageServiceProperties><\/ImageServer>",
 "allowedFields": "",
 "hasMultidimensions": false,
 "pixelSizeX": 0.00832512381851879,
 "pixelSizeY": 0.008325153483992466,
 "meanPixelSize": 926.7501954411769,
 "datasetFormat": "TIFF",
 "uncompressedSize": 170786592,
 "blockWidth": 128,
 "blockHeight": 128,
 "compressionType": "LZW",
 "bandNames": [
  "Band_1",
  "Band_2",
  "Band_3",
  "Band_4",
  "Band_5",
  "Band_6",
  "Band_7",
  "Band_8",
  "Band_9",
  "Band_10",
  "Band_11",
  "Band_12",
  "Band_13",
  "Band_14",
  "Band_15",
  "Band_16",
  "Band_17",
  "Band_18",
  "Band_19"
 ],
 "allowCopy": true,
 "allowAnalysis": true,
 "itemAccess": false,
 "inspectionCapabilities": "",
 "minPixelSize": 0,
 "maxPixelSize": 0,
 "copyrightText": "",
 "serviceDataType": "esriImageServiceDataTypeGeneric",
 "serviceSourceType": "esriImageServiceSourceTypeDataset",
 "objectIdField": "",
 "fields": [],
 "capabilities": "Image,Metadata,Mensuration",
 "defaultMosaicMethod": "Center",
 "allowedMosaicMethods": "",
 "sortField": "",
 "sortValue": null,
 "sortAscending": true,
 "mosaicOperator": "First",
 "defaultCompressionQuality": 75,
 "defaultResamplingMethod": "Bilinear",
 "maxImageHeight": 4100,
 "maxImageWidth": 15000,
 "allowRasterFunction": true,
 "rasterFunctionInfos": [
  {
   "name": "None",
   "description": "",
   "help": ""
  }
 ],
 "rasterTypeInfos": [
  {
   "name": "Raster Dataset",
   "description": "Supports all ArcGIS Raster Datasets",
   "help": ""
  }
 ],
 "mensurationCapabilities": "Basic",
 "hasHistograms": true,
 "hasColormap": false,
 "hasRasterAttributeTable": false,
 "minScale": 0,
 "maxScale": 0,
 "exportTilesAllowed": false,
 "supportsStatistics": false,
 "supportsAdvancedQueries": false,
 "editFieldsInfo": null,
 "ownershipBasedAccessControlForRasters": null,
 "allowComputeTiePoints": false,
 "useStandardizedQueries": true,
 "advancedQueryCapabilities": {
  "useStandardizedQueries": true,
  "supportsStatistics": false,
  "supportsOrderBy": false,
  "supportsDistinct": false,
  "supportsPagination": false
 },
 "spatialReference": {
  "wkid": 4326,
  "latestWkid": 4326
 }
}
