View In:
ArcGIS JavaScript
ArcGIS Online Map Viewer
ArcGIS Earth
Service Description: NDWR_PMP/general_36hr_V3_tif
Name: NDWR_PMP/general_36hr_V3_tif
Description:
Single Fused Map Cache: false
Extent:
XMin: -121.25035000000707
YMin: 34.274429
XMax: -112.4423690000142
YMax: 43.115742
Spatial Reference: 4326
(4326)
LatestVCSWkid(0)
Initial Extent:
XMin: -121.25035000000707
YMin: 34.274429
XMax: -112.4423690000142
YMax: 43.115742
Spatial Reference: 4326
(4326)
LatestVCSWkid(0)
Full Extent:
XMin: -121.25035000000707
YMin: 34.274429
XMax: -112.4423690000142
YMax: 43.115742
Spatial Reference: 4326
(4326)
LatestVCSWkid(0)
Pixel Size X: 0.00832512381851879
Pixel Size Y: 0.008325153483992466
Band Count: 37
Pixel Type: F64
RasterFunction Infos: {"rasterFunctionInfos": [{
"name": "None",
"description": "",
"help": ""
}]}
Mensuration Capabilities: Basic
Inspection Capabilities:
Has Histograms: true
Has Colormap: false
Has Multi Dimensions : false
Rendering Rule:
Min Scale: 0
Max Scale: 0
Copyright Text:
Service Data Type: esriImageServiceDataTypeGeneric
Min Values: 5.9488186873789, 5.7726378853866, 5.6737205738158, 5.654527739277, 5.6279529014694, 5.5991635547848, 5.5821852296043, 5.5610595029341, 5.5246061855944, 5.4443139411839, 5.0507457930705, 4.8265445138526, 4.6742979127086, 4.5575674259931, 4.4572327458559, 4.3739940414133, 4.3039012099232, 4.2426160305939, 4.186574696545, 3.8619369205538, 3.7063928053892, 3.6076692496459, 3.5326635174407, 3.4705218628628, 3.4159625912213, 3.3675057105201, 3.3245843346482, 3.2854583730956, 3.0219336253318, 2.8551133558514, 2.7206853577303, 2.6038703464887, 2.4982245703988, 2.4012758410625, 2.3129599353663, 2.23433539814, 2.1645936307636
Max Values: 36.904087817575, 36.904050812008, 36.903990347554, 36.903954573504, 36.815355232742, 36.616090564277, 36.522516366992, 36.41047268536, 36.353240256357, 36.283882459967, 34.323671388308, 33.332383301964, 32.58774016858, 31.945170144244, 31.421956189005, 30.99819741772, 30.628443013502, 30.284638892947, 29.982616433954, 27.950942520458, 26.71108372608, 25.839294469777, 25.151745742595, 24.589197580201, 24.112740231821, 23.687368612191, 23.313973268287, 22.987384438866, 20.792459437525, 19.398909683745, 18.375465097712, 17.668622575717, 17.134350198839, 16.639682318767, 16.182338666166, 15.758337286121, 15.364468765243
Mean Values: 11.304180557924, 11.14990719626, 11.010107546716, 10.942404369626, 10.835382168245, 10.733991708324, 10.672878014155, 10.591335958968, 10.542745391949, 10.479369896365, 10.092624117225, 9.8706321829456, 9.709876148348, 9.5827467160548, 9.468041586479, 9.3678488857371, 9.2785945091742, 9.1984885157213, 9.1255564383835, 8.6472255822537, 8.3137430914253, 8.0584303160212, 7.8542347491788, 7.6819400976915, 7.5288475405208, 7.3920468947138, 7.2683892108035, 7.1550444972519, 6.3876960051855, 5.9397899758004, 5.6184142482241, 5.3600190140829, 5.140204888875, 4.9519824306584, 4.7887274209622, 4.6448405427097, 4.5168991473539
Standard Deviation Values: 3.3753309486098, 3.371758907619, 3.3519012548434, 3.3457823531217, 3.3397216032329, 3.3249718831954, 3.3220725207426, 3.3241059721699, 3.3258172279733, 3.3274160845276, 3.2166229640862, 3.1641943460328, 3.1229885151113, 3.0871248235589, 3.0564412298535, 3.0300501727532, 3.0056801948498, 2.9829065758396, 2.9628871893983, 2.8090132573282, 2.6803115988585, 2.5791271615484, 2.5001952751832, 2.4353962656498, 2.3790635163413, 2.3292080973573, 2.284866855206, 2.2454715700394, 1.9971487448134, 1.8656193469372, 1.7806366134103, 1.7193275617466, 1.6726022343643, 1.6349281047756, 1.6042055722793, 1.5779806006555, 1.5546616902708
Object ID Field:
Fields:
None
Default Mosaic Method: Center
Allowed Mosaic Methods:
SortField:
SortValue: null
Mosaic Operator: First
Default Compression Quality: 75
Default Resampling Method: Bilinear
Max Record Count: null
Max Image Height: 4100
Max Image Width: 15000
Max Download Image Count: null
Max Mosaic Image Count: null
Allow Raster Function: true
Allow Copy: true
Allow Analysis: true
Allow Compute TiePoints: false
Supports Statistics: false
Supports Advanced Queries: false
Use StandardizedQueries: true
Raster Type Infos:
Name: Raster Dataset
Description: Supports all ArcGIS Raster Datasets
Help:
Has Raster Attribute Table: false
Edit Fields Info: null
Ownership Based AccessControl For Rasters: null
Child Resources:
Info
Histograms
Statistics
Key Properties
Legend
Raster Function Infos
Supported Operations:
Export Image
Identify
Measure
Compute Histograms
Compute Statistics Histograms
Get Samples
Compute Class Statistics
Query Boundary
Compute Pixel Location
Compute Angles
Validate
Project