View In:
ArcGIS JavaScript
ArcGIS Online Map Viewer
ArcGIS Earth
Service Description: NDWR_PMP/general_6hr_V3_tif
Name: NDWR_PMP/general_6hr_V3_tif
Description:
Single Fused Map Cache: false
Extent:
XMin: -121.25035000000707
YMin: 34.274429
XMax: -112.4423690000142
YMax: 43.115742
Spatial Reference: 4326
(4326)
LatestVCSWkid(0)
Initial Extent:
XMin: -121.25035000000707
YMin: 34.274429
XMax: -112.4423690000142
YMax: 43.115742
Spatial Reference: 4326
(4326)
LatestVCSWkid(0)
Full Extent:
XMin: -121.25035000000707
YMin: 34.274429
XMax: -112.4423690000142
YMax: 43.115742
Spatial Reference: 4326
(4326)
LatestVCSWkid(0)
Pixel Size X: 0.00832512381851879
Pixel Size Y: 0.008325153483992466
Band Count: 37
Pixel Type: F64
RasterFunction Infos: {"rasterFunctionInfos": [{
"name": "None",
"description": "",
"help": ""
}]}
Mensuration Capabilities: Basic
Inspection Capabilities:
Has Histograms: false
Has Colormap: false
Has Multi Dimensions : false
Rendering Rule:
Min Scale: 0
Max Scale: 0
Copyright Text:
Service Data Type: esriImageServiceDataTypeGeneric
Min Values: 2.7795275740736, 2.7321604293162, 2.6870078740157, 2.6658911945085, 2.6374924565575, 2.6107898988123, 2.5949803550099, 2.5728346821428, 2.5591407365809, 2.5405057887465, 2.4339794419449, 2.3678452834297, 2.3186232132452, 2.2790011318803, 2.2436373218656, 2.2117610331818, 2.1838129166303, 2.1598516529873, 2.1386221901812, 1.8248663628355, 1.7297883483582, 1.6569558760795, 1.5981638737065, 1.5494382574607, 1.5063116757136, 1.4659440948173, 1.4287721293352, 1.3948578043626, 1.1867131094135, 1.0767221360539, 0.99762532725924, 0.93635453672944, 0.88712247294943, 0.84601348946665, 0.8155864078664, 0.79163379320921, 0.77000054509445
Max Values: 13.776716107266, 13.578645264381, 13.420697422478, 13.420671808438, 13.396239809236, 13.34130724584, 13.314852676992, 13.28461422829, 13.268836915024, 13.249716097337, 12.559793669841, 12.183317187914, 11.918414648485, 11.676614234308, 11.488239591607, 11.288279907065, 11.113623924129, 10.966164320561, 10.837790462204, 10.21618190208, 9.8929142263993, 9.6512564148869, 9.4499351524477, 9.2751189656371, 9.1194283357357, 8.9787349919333, 8.8484604282108, 8.7279349757054, 7.7236057719826, 6.9584329005141, 6.3165725656914, 5.761153505618, 5.4159328819115, 5.1895757208158, 4.9915122954473, 4.8114095580708, 4.6423987973594
Mean Values: 5.2132949294297, 5.1760299996807, 5.124408833947, 5.0935807500884, 5.0464521615375, 5.0055661699851, 4.9787048824865, 4.9419546083945, 4.9210299089253, 4.8948174112443, 4.7052393332087, 4.5559976853023, 4.4256119838304, 4.3109036416627, 4.1995097737524, 4.0986452814433, 4.0068849905739, 3.9231699423815, 3.8479223130469, 3.3718047754905, 3.1122005756481, 2.9375508241225, 2.8061449320754, 2.7009692456558, 2.6118822867901, 2.5342127917216, 2.467714916533, 2.4198079039816, 2.096930716039, 1.9078379676072, 1.7741530990959, 1.6644104458628, 1.5798328890966, 1.5140251459921, 1.4581471456773, 1.4085995283922, 1.3635884920524
Standard Deviation Values: 1.4319297919948, 1.4277523680886, 1.4214694697071, 1.4156331674382, 1.4115473122495, 1.4071789314975, 1.4052845064838, 1.4050630086646, 1.405280079776, 1.40196664428, 1.3465581901355, 1.3030678612764, 1.2653900282435, 1.2320642837547, 1.2003961668796, 1.1719886299162, 1.1463976332771, 1.1234729683978, 1.1037287960775, 1.0185670915686, 1.0014912636158, 0.99589441951117, 0.98907104797907, 0.98080926216113, 0.97143310883258, 0.96181731515497, 0.95134977860201, 0.93883116560006, 0.82809141655769, 0.73888269314748, 0.67419647087325, 0.61854442551675, 0.58293858506968, 0.56069238009751, 0.54205695963514, 0.52490572804632, 0.50860805915059
Object ID Field:
Fields:
None
Default Mosaic Method: Center
Allowed Mosaic Methods:
SortField:
SortValue: null
Mosaic Operator: First
Default Compression Quality: 75
Default Resampling Method: Bilinear
Max Record Count: null
Max Image Height: 4100
Max Image Width: 15000
Max Download Image Count: null
Max Mosaic Image Count: null
Allow Raster Function: true
Allow Copy: true
Allow Analysis: true
Allow Compute TiePoints: false
Supports Statistics: false
Supports Advanced Queries: false
Use StandardizedQueries: true
Raster Type Infos:
Name: Raster Dataset
Description: Supports all ArcGIS Raster Datasets
Help:
Has Raster Attribute Table: false
Edit Fields Info: null
Ownership Based AccessControl For Rasters: null
Child Resources:
Info
Statistics
Key Properties
Legend
Raster Function Infos
Supported Operations:
Export Image
Identify
Measure
Compute Histograms
Compute Statistics Histograms
Get Samples
Compute Class Statistics
Query Boundary
Compute Pixel Location
Compute Angles
Validate
Project