View In:
ArcGIS JavaScript
ArcGIS Online Map Viewer
ArcGIS Earth
Service Description: NDWR_PMP/general_12hr_V3_tif
Name: NDWR_PMP/general_12hr_V3_tif
Description:
Single Fused Map Cache: false
Extent:
XMin: -121.25035000000707
YMin: 34.274429
XMax: -112.4423690000142
YMax: 43.115742
Spatial Reference: 4326
(4326)
LatestVCSWkid(0)
Initial Extent:
XMin: -121.25035000000707
YMin: 34.274429
XMax: -112.4423690000142
YMax: 43.115742
Spatial Reference: 4326
(4326)
LatestVCSWkid(0)
Full Extent:
XMin: -121.25035000000707
YMin: 34.274429
XMax: -112.4423690000142
YMax: 43.115742
Spatial Reference: 4326
(4326)
LatestVCSWkid(0)
Pixel Size X: 0.00832512381851879
Pixel Size Y: 0.008325153483992466
Band Count: 37
Pixel Type: F64
RasterFunction Infos: {"rasterFunctionInfos": [{
"name": "None",
"description": "",
"help": ""
}]}
Mensuration Capabilities: Basic
Inspection Capabilities:
Has Histograms: true
Has Colormap: false
Has Multi Dimensions : false
Rendering Rule:
Min Scale: 0
Max Scale: 0
Copyright Text:
Service Data Type: esriImageServiceDataTypeGeneric
Min Values: 3.7542991187629, 3.6852801916168, 3.6270619565108, 3.6040747184453, 3.579018094336, 3.5531352495584, 3.5386298647703, 3.5201101871658, 3.509226583202, 3.4947446791928, 3.4136383956595, 3.3488622136292, 3.2976237201171, 3.2565991604771, 3.2169314862388, 3.1785461501952, 3.1417901540719, 3.1077574126956, 3.0750416991768, 2.8444424440379, 2.6978638050885, 2.589903362357, 2.5017796871499, 2.425784834491, 2.3596477080273, 2.3012216854294, 2.2488362132901, 2.2011023463372, 1.8916321239521, 1.7230018832077, 1.6081260060203, 1.5192807004389, 1.4453480063759, 1.382042269644, 1.3268675744707, 1.2779775407674, 1.2341109996532
Max Values: 24.914762842374, 24.914726077102, 24.914677912795, 24.914646599236, 24.872036939098, 24.776222536883, 24.730087340347, 24.677352218714, 24.6498331751, 24.616488497738, 23.343966280165, 22.647416607529, 22.167114694504, 21.724924738209, 21.375658949469, 21.059566721338, 20.765571720481, 20.526536729658, 20.311446782647, 18.830602864657, 17.890226997174, 17.285930720641, 16.837685776928, 16.433932633427, 16.086217463732, 15.786667064952, 15.507106875629, 15.256216666449, 13.510752076337, 12.411790084966, 11.625779646019, 11.030621134358, 10.547986308247, 10.136491417546, 9.7814502191214, 9.4716001867102, 9.1950355785188
Mean Values: 6.5750331580831, 6.5388673052866, 6.490048165515, 6.4645893943986, 6.422945187278, 6.383223973198, 6.35813628309, 6.3208060239583, 6.3034254872504, 6.2794504187025, 6.0607494321757, 5.8939839622628, 5.7542414409357, 5.6315506189576, 5.5236135676755, 5.431018320333, 5.3499774952497, 5.2777390879786, 5.210694681482, 4.7706904009858, 4.5119635616614, 4.3311392695518, 4.1912018937123, 4.0721974955067, 3.9699587979213, 3.882672863919, 3.8046523501787, 3.7346825842728, 3.262194419213, 3.0151642170189, 2.8388910469214, 2.6990078440992, 2.5812844137623, 2.4796050363707, 2.3909786775502, 2.3135584876452, 2.2437191451077
Standard Deviation Values: 2.0075339756722, 2.0153894564929, 2.0247787776338, 2.0292821437847, 2.0344563043018, 2.0333059092095, 2.0347939652863, 2.0395995584364, 2.03974996199, 2.0406053036466, 1.9361088506027, 1.8812016691595, 1.8444032197134, 1.8103717311753, 1.7843383160083, 1.7606627072394, 1.7387696788316, 1.7220986373216, 1.7076188693076, 1.6119768691841, 1.5516233069546, 1.5153896153562, 1.4881467370088, 1.4625405080021, 1.4406906095792, 1.4222992585554, 1.4044745147891, 1.3883970030768, 1.2782336127385, 1.1914510756138, 1.1262965944448, 1.0756015996912, 1.0342009689813, 0.99895838761382, 0.96870245843867, 0.94208284519319, 0.91794112281737
Object ID Field:
Fields:
None
Default Mosaic Method: Center
Allowed Mosaic Methods:
SortField:
SortValue: null
Mosaic Operator: First
Default Compression Quality: 75
Default Resampling Method: Bilinear
Max Record Count: null
Max Image Height: 4100
Max Image Width: 15000
Max Download Image Count: null
Max Mosaic Image Count: null
Allow Raster Function: true
Allow Copy: true
Allow Analysis: true
Allow Compute TiePoints: false
Supports Statistics: false
Supports Advanced Queries: false
Use StandardizedQueries: true
Raster Type Infos:
Name: Raster Dataset
Description: Supports all ArcGIS Raster Datasets
Help:
Has Raster Attribute Table: false
Edit Fields Info: null
Ownership Based AccessControl For Rasters: null
Child Resources:
Info
Histograms
Statistics
Key Properties
Legend
Raster Function Infos
Supported Operations:
Export Image
Identify
Measure
Compute Histograms
Compute Statistics Histograms
Get Samples
Compute Class Statistics
Query Boundary
Compute Pixel Location
Compute Angles
Validate
Project