View In:
ArcGIS JavaScript
ArcGIS Online Map Viewer
ArcGIS Earth
Service Description: NDWR_PMP/general_48hr_V3_tif
Name: NDWR_PMP/general_48hr_V3_tif
Description:
Single Fused Map Cache: false
Extent:
XMin: -121.25035000000707
YMin: 34.274429
XMax: -112.4423690000142
YMax: 43.115742
Spatial Reference: 4326
(4326)
LatestVCSWkid(0)
Initial Extent:
XMin: -121.25035000000707
YMin: 34.274429
XMax: -112.4423690000142
YMax: 43.115742
Spatial Reference: 4326
(4326)
LatestVCSWkid(0)
Full Extent:
XMin: -121.25035000000707
YMin: 34.274429
XMax: -112.4423690000142
YMax: 43.115742
Spatial Reference: 4326
(4326)
LatestVCSWkid(0)
Pixel Size X: 0.00832512381851879
Pixel Size Y: 0.008325153483992466
Band Count: 37
Pixel Type: F64
RasterFunction Infos: {"rasterFunctionInfos": [{
"name": "None",
"description": "",
"help": ""
}]}
Mensuration Capabilities: Basic
Inspection Capabilities:
Has Histograms: true
Has Colormap: false
Has Multi Dimensions : false
Rendering Rule:
Min Scale: 0
Max Scale: 0
Copyright Text:
Service Data Type: esriImageServiceDataTypeGeneric
Min Values: 6.5147635692687, 6.3224408908153, 6.1959892182838, 6.1423227805791, 6.0788157721276, 6.030265702976, 6.0052493238074, 5.9344769275095, 5.8711057034146, 5.8117049683375, 5.5905323328934, 5.4374622331108, 5.3221722316338, 5.2285558491548, 5.14705366794, 5.0779190485422, 5.0203367114662, 4.9715360642422, 4.9286512432227, 4.6627606320091, 4.5125554814302, 4.4039616017932, 4.314361617959, 4.2358287104973, 4.1644068778755, 4.0989338320945, 4.0398870094418, 3.9856831832373, 3.6098306701614, 3.3747934051331, 3.1961157823227, 3.0483353255156, 2.9205726289986, 2.8057807200221, 2.7020423906853, 2.6087531976596, 2.5247655142804
Max Values: 38.580343892255, 38.580224945789, 38.580133933721, 38.5800868958, 38.489906409728, 38.264573915737, 38.159403963665, 38.039205613367, 37.976480893426, 37.90046779695, 35.847094955768, 34.791071503037, 34.000722618265, 33.329632655537, 32.732863294676, 32.22720798322, 31.792945822638, 31.446909116654, 31.111921548691, 28.863665809477, 27.802829635248, 27.3540153201, 27.00663808584, 26.708227128007, 26.44453916282, 26.211445845377, 26.001211953943, 25.80864415625, 24.442487213366, 23.517832928711, 22.763212454466, 22.109409344682, 21.51642083729, 21.025213589866, 20.660174121345, 20.320801344678, 20.000999069276
Mean Values: 12.938152458284, 12.729217183795, 12.593780106489, 12.516718780545, 12.391385780179, 12.285164451398, 12.221630689782, 12.135106762154, 12.085523846489, 12.021673463132, 11.627935033592, 11.39530536366, 11.224378450771, 11.094945318981, 10.981509887926, 10.883356013977, 10.796080258341, 10.71670009948, 10.642984191866, 10.133060909326, 9.7962840626202, 9.5409208515517, 9.3387031776517, 9.1632582108812, 9.0036467153167, 8.8567749939479, 8.7226130818356, 8.5985135755178, 7.7530610680513, 7.2513289523068, 6.8844837364753, 6.5869785549419, 6.3313886370283, 6.10916367554, 5.9147498663677, 5.7427907587983, 5.5894884354376
Standard Deviation Values: 3.962443571265, 3.929085817574, 3.9264900665056, 3.9205772836795, 3.913247450591, 3.9011510869275, 3.8998548901753, 3.9019826885942, 3.9040258211532, 3.9072612390183, 3.8200017371109, 3.7755023824085, 3.7404224704326, 3.7126403394049, 3.6875861239005, 3.6654063949115, 3.6446581679295, 3.6265436732788, 3.6084979193829, 3.4608520095597, 3.3395996190692, 3.2459085512504, 3.1804984850156, 3.1241600723295, 3.0731306544589, 3.0267393521757, 2.9846581388299, 2.946229772139, 2.7002556672897, 2.5726521804697, 2.4897258294587, 2.4270141259204, 2.3751948228999, 2.3334717377066, 2.3010186472418, 2.2717034702662, 2.2441458023102
Object ID Field:
Fields:
None
Default Mosaic Method: Center
Allowed Mosaic Methods:
SortField:
SortValue: null
Mosaic Operator: First
Default Compression Quality: 75
Default Resampling Method: Bilinear
Max Record Count: null
Max Image Height: 4100
Max Image Width: 15000
Max Download Image Count: null
Max Mosaic Image Count: null
Allow Raster Function: true
Allow Copy: true
Allow Analysis: true
Allow Compute TiePoints: false
Supports Statistics: false
Supports Advanced Queries: false
Use StandardizedQueries: true
Raster Type Infos:
Name: Raster Dataset
Description: Supports all ArcGIS Raster Datasets
Help:
Has Raster Attribute Table: false
Edit Fields Info: null
Ownership Based AccessControl For Rasters: null
Child Resources:
Info
Histograms
Statistics
Key Properties
Legend
Raster Function Infos
Supported Operations:
Export Image
Identify
Measure
Compute Histograms
Compute Statistics Histograms
Get Samples
Compute Class Statistics
Query Boundary
Compute Pixel Location
Compute Angles
Validate
Project