View In:
ArcGIS JavaScript
ArcGIS Online Map Viewer
ArcGIS Earth
Service Description: NDWR_PMP/general_72hr_V3_tif
Name: NDWR_PMP/general_72hr_V3_tif
Description:
Single Fused Map Cache: false
Extent:
XMin: -121.25035000000707
YMin: 34.274429
XMax: -112.4423690000142
YMax: 43.115742
Spatial Reference: 4326
(4326)
LatestVCSWkid(0)
Initial Extent:
XMin: -121.25035000000707
YMin: 34.274429
XMax: -112.4423690000142
YMax: 43.115742
Spatial Reference: 4326
(4326)
LatestVCSWkid(0)
Full Extent:
XMin: -121.25035000000707
YMin: 34.274429
XMax: -112.4423690000142
YMax: 43.115742
Spatial Reference: 4326
(4326)
LatestVCSWkid(0)
Pixel Size X: 0.00832512381851879
Pixel Size Y: 0.008325153483992466
Band Count: 37
Pixel Type: F64
RasterFunction Infos: {"rasterFunctionInfos": [{
"name": "None",
"description": "",
"help": ""
}]}
Mensuration Capabilities: Basic
Inspection Capabilities:
Has Histograms: true
Has Colormap: false
Has Multi Dimensions : false
Rendering Rule:
Min Scale: 0
Max Scale: 0
Copyright Text:
Service Data Type: esriImageServiceDataTypeGeneric
Min Values: 7.7687003668838, 7.6417318329098, 7.4833905227541, 7.4010824518879, 7.3073891767367, 7.2386807813419, 7.2017713481673, 7.1511527148355, 7.1215335411064, 7.0824120219443, 6.8489171287495, 6.6962065890224, 6.5909767526341, 6.5116047016584, 6.4468945083444, 6.3924062550237, 6.3455434527338, 6.3038167063662, 6.2663747344285, 6.0307071301225, 5.8888779316256, 5.7726145808312, 5.6714504787804, 5.5784756309614, 5.4910803467256, 5.4086361297291, 5.3320319751062, 5.2602071014902, 4.7484606474935, 4.4370630210707, 4.2069270838841, 4.0180961345577, 3.8557459270904, 3.7145260392484, 3.5886835010241, 3.4743238957309, 3.3702278270792
Max Values: 45.980140809446, 45.09403940302, 44.15846501689, 43.636701617616, 43.101729167835, 42.708284837416, 42.481528668939, 42.198412196592, 42.045017385615, 41.836297259762, 40.728899184292, 40.058757100204, 39.589234498459, 39.235966354848, 38.941761161566, 38.696463074236, 38.473414456396, 38.27384960996, 38.09395272061, 36.907352053336, 36.193047716733, 35.67613028724, 35.260622719638, 34.909090555888, 34.593468256439, 34.309467678, 34.052673229842, 33.814340569976, 32.111433174583, 31.013904195787, 30.161058604442, 29.397831139684, 28.697385954212, 28.059756817373, 27.476929596632, 26.947630247567, 26.465976578689
Mean Values: 15.364677981526, 15.131965076348, 14.91033236608, 14.796844465646, 14.646665752855, 14.521567768099, 14.450468908635, 14.350869972662, 14.293718258527, 14.214145221834, 13.787575667559, 13.51722688158, 13.339975765203, 13.205865145879, 13.084756309765, 12.978609972013, 12.886609458971, 12.801827248571, 12.722619237169, 12.161249121767, 11.77981755703, 11.476617116747, 11.22434387027, 11.00413901568, 10.804906164618, 10.620091720924, 10.452230531825, 10.297473511249, 9.2672057808553, 8.6774485827967, 8.2473039705107, 7.8989634211972, 7.603743333123, 7.347706676769, 7.1234280889912, 6.9252708523791, 6.7480469539912
Standard Deviation Values: 4.879957398408, 4.7969948831943, 4.7059131399044, 4.6600536478678, 4.6216905655908, 4.6031507481795, 4.5959950672207, 4.595362926614, 4.5946245283597, 4.5910200192962, 4.5506545505164, 4.5153240053222, 4.4775455909912, 4.4386961726038, 4.4021169090306, 4.3703524614474, 4.3423815990102, 4.3162932212182, 4.2918632523239, 4.1151703151156, 3.9928239638991, 3.8971780378908, 3.8189152720718, 3.7527787985119, 3.6953612111767, 3.6441654804643, 3.5994900008413, 3.5595214049537, 3.3397470472349, 3.2415825272735, 3.1720626444534, 3.1154751697198, 3.0683011583392, 3.0272260989707, 2.9905931734291, 2.9577160803806, 2.9273718308496
Object ID Field:
Fields:
None
Default Mosaic Method: Center
Allowed Mosaic Methods:
SortField:
SortValue: null
Mosaic Operator: First
Default Compression Quality: 75
Default Resampling Method: Bilinear
Max Record Count: null
Max Image Height: 4100
Max Image Width: 15000
Max Download Image Count: null
Max Mosaic Image Count: null
Allow Raster Function: true
Allow Copy: true
Allow Analysis: true
Allow Compute TiePoints: false
Supports Statistics: false
Supports Advanced Queries: false
Use StandardizedQueries: true
Raster Type Infos:
Name: Raster Dataset
Description: Supports all ArcGIS Raster Datasets
Help:
Has Raster Attribute Table: false
Edit Fields Info: null
Ownership Based AccessControl For Rasters: null
Child Resources:
Info
Histograms
Statistics
Key Properties
Legend
Raster Function Infos
Supported Operations:
Export Image
Identify
Measure
Compute Histograms
Compute Statistics Histograms
Get Samples
Compute Class Statistics
Query Boundary
Compute Pixel Location
Compute Angles
Validate
Project