View In:
ArcGIS JavaScript
ArcGIS Online Map Viewer
ArcGIS Earth
Service Description: NDWR_PMP/local_12hr_V3_tif
Name: NDWR_PMP/local_12hr_V3_tif
Description:
Single Fused Map Cache: false
Extent:
XMin: -121.25035000000707
YMin: 34.274429
XMax: -112.4423690000142
YMax: 43.115742
Spatial Reference: 4326
(4326)
LatestVCSWkid(0)
Initial Extent:
XMin: -121.25035000000707
YMin: 34.274429
XMax: -112.4423690000142
YMax: 43.115742
Spatial Reference: 4326
(4326)
LatestVCSWkid(0)
Full Extent:
XMin: -121.25035000000707
YMin: 34.274429
XMax: -112.4423690000142
YMax: 43.115742
Spatial Reference: 4326
(4326)
LatestVCSWkid(0)
Pixel Size X: 0.00832512381851879
Pixel Size Y: 0.008325153483992466
Band Count: 19
Pixel Type: F64
RasterFunction Infos: {"rasterFunctionInfos": [{
"name": "None",
"description": "",
"help": ""
}]}
Mensuration Capabilities: Basic
Inspection Capabilities:
Has Histograms: true
Has Colormap: false
Has Multi Dimensions : false
Rendering Rule:
Min Scale: 0
Max Scale: 0
Copyright Text:
Service Data Type: esriImageServiceDataTypeGeneric
Min Values: 8.8368834829311, 8.6530662025988, 8.5803426444587, 8.537660387408, 8.4920837946011, 8.4505854550601, 8.4145211157506, 8.3699054020113, 8.3182768346417, 8.2426800030323, 7.9929769199154, 7.6360615015591, 7.5073115117624, 7.3885418752639, 7.2375085076021, 7.1092343959564, 7.0002840021837, 6.918011885882, 6.8635843138854
Max Values: 47.011316405845, 46.53744611534, 46.248369985825, 46.01910264614, 45.672989814623, 45.390534822905, 45.240054411634, 45.023895276763, 44.87800058142, 44.660118347105, 43.232269201197, 42.456444524027, 41.917240384271, 41.474626958068, 41.040867277363, 40.666737980544, 40.329000417646, 40.025814857301, 39.753813314774
Mean Values: 12.974416038936, 12.658900095371, 12.46162401053, 12.357504227465, 12.223207395265, 12.117315877534, 12.045253150009, 11.951266326189, 11.895236473842, 11.821367634289, 11.40292547902, 11.152841648456, 10.958951449643, 10.800100426424, 10.656057841172, 10.529908833535, 10.416589834368, 10.312956108601, 10.218720581312
Standard Deviation Values: 3.8032510188528, 3.7821249416929, 3.7664755498822, 3.7552469729958, 3.7381504561479, 3.727554250796, 3.7271768837959, 3.7236408565296, 3.7192808766803, 3.7103188663768, 3.6375977272576, 3.6035615042408, 3.5771928440589, 3.5538397202187, 3.5250523301556, 3.4985756548295, 3.4728304573335, 3.4484688774741, 3.42547045346
Object ID Field:
Fields:
None
Default Mosaic Method: Center
Allowed Mosaic Methods:
SortField:
SortValue: null
Mosaic Operator: First
Default Compression Quality: 75
Default Resampling Method: Bilinear
Max Record Count: null
Max Image Height: 4100
Max Image Width: 15000
Max Download Image Count: null
Max Mosaic Image Count: null
Allow Raster Function: true
Allow Copy: true
Allow Analysis: true
Allow Compute TiePoints: false
Supports Statistics: false
Supports Advanced Queries: false
Use StandardizedQueries: true
Raster Type Infos:
Name: Raster Dataset
Description: Supports all ArcGIS Raster Datasets
Help:
Has Raster Attribute Table: false
Edit Fields Info: null
Ownership Based AccessControl For Rasters: null
Child Resources:
Info
Histograms
Statistics
Key Properties
Legend
Raster Function Infos
Supported Operations:
Export Image
Identify
Measure
Compute Histograms
Compute Statistics Histograms
Get Samples
Compute Class Statistics
Query Boundary
Compute Pixel Location
Compute Angles
Validate
Project