View In:
ArcGIS JavaScript
ArcGIS Online Map Viewer
ArcGIS Earth
Service Description: NDWR_PMP/local_1hr_V3_tif
Name: NDWR_PMP/local_1hr_V3_tif
Description:
Single Fused Map Cache: false
Extent:
XMin: -121.25035000000707
YMin: 34.274429
XMax: -112.4423690000142
YMax: 43.115742
Spatial Reference: 4326
(4326)
LatestVCSWkid(0)
Initial Extent:
XMin: -121.25035000000707
YMin: 34.274429
XMax: -112.4423690000142
YMax: 43.115742
Spatial Reference: 4326
(4326)
LatestVCSWkid(0)
Full Extent:
XMin: -121.25035000000707
YMin: 34.274429
XMax: -112.4423690000142
YMax: 43.115742
Spatial Reference: 4326
(4326)
LatestVCSWkid(0)
Pixel Size X: 0.00832512381851879
Pixel Size Y: 0.008325153483992466
Band Count: 19
Pixel Type: F64
RasterFunction Infos: {"rasterFunctionInfos": [{
"name": "None",
"description": "",
"help": ""
}]}
Mensuration Capabilities: Basic
Inspection Capabilities:
Has Histograms: true
Has Colormap: false
Has Multi Dimensions : false
Rendering Rule:
Min Scale: 0
Max Scale: 0
Copyright Text:
Service Data Type: esriImageServiceDataTypeGeneric
Min Values: 1.4037774937504, 1.3709708927039, 1.353868700315, 1.3447256019866, 1.3332499253126, 1.3255743183141, 1.3204572469817, 1.3141055822252, 1.3103124531349, 1.3047245683438, 1.2658208188188, 1.2399602967038, 1.2206613204208, 1.2062841644246, 1.1940296794039, 1.1836101810857, 1.1747811529309, 1.166839962126, 1.1596743757749
Max Values: 11.294656415171, 11.199239249124, 11.14867586658, 11.122288996167, 11.092392438856, 11.064466329455, 11.04848809356, 11.028008998076, 11.014628078269, 10.995396467878, 10.852183105801, 10.74054317929, 10.63647802541, 10.539029436214, 10.433799816252, 10.338638489725, 10.244457825928, 10.152325140378, 10.06805003433
Mean Values: 3.2478076696294, 3.2150431203198, 3.1928452519426, 3.1809866131423, 3.1654847790394, 3.1522724157639, 3.1443138366608, 3.1330466805902, 3.1254025132074, 3.1144913983409, 3.0297630523381, 2.9573554822142, 2.8927535832291, 2.8334105354033, 2.7771870176276, 2.7266936736895, 2.6811715170714, 2.6403119530561, 2.6031083236491
Standard Deviation Values: 1.5772979504054, 1.5726599295287, 1.5702420003363, 1.5692106166298, 1.5675683746059, 1.564939404357, 1.5634400588352, 1.5613242131561, 1.5594456763763, 1.5570737972296, 1.5399725205824, 1.5230577384418, 1.5056531276409, 1.4884622739707, 1.4716053558555, 1.4582284735654, 1.4462840764944, 1.4352079269463, 1.425206321079
Object ID Field:
Fields:
None
Default Mosaic Method: Center
Allowed Mosaic Methods:
SortField:
SortValue: null
Mosaic Operator: First
Default Compression Quality: 75
Default Resampling Method: Bilinear
Max Record Count: null
Max Image Height: 4100
Max Image Width: 15000
Max Download Image Count: null
Max Mosaic Image Count: null
Allow Raster Function: true
Allow Copy: true
Allow Analysis: true
Allow Compute TiePoints: false
Supports Statistics: false
Supports Advanced Queries: false
Use StandardizedQueries: true
Raster Type Infos:
Name: Raster Dataset
Description: Supports all ArcGIS Raster Datasets
Help:
Has Raster Attribute Table: false
Edit Fields Info: null
Ownership Based AccessControl For Rasters: null
Child Resources:
Info
Histograms
Statistics
Key Properties
Legend
Raster Function Infos
Supported Operations:
Export Image
Identify
Measure
Compute Histograms
Compute Statistics Histograms
Get Samples
Compute Class Statistics
Query Boundary
Compute Pixel Location
Compute Angles
Validate
Project