View In:
ArcGIS JavaScript
ArcGIS Online Map Viewer
ArcGIS Earth
Service Description: NDWR_PMP/local_24hr_V3_tif
Name: NDWR_PMP/local_24hr_V3_tif
Description:
Single Fused Map Cache: false
Extent:
XMin: -121.25035000000707
YMin: 34.274429
XMax: -112.4423690000142
YMax: 43.115742
Spatial Reference: 4326
(4326)
LatestVCSWkid(0)
Initial Extent:
XMin: -121.25035000000707
YMin: 34.274429
XMax: -112.4423690000142
YMax: 43.115742
Spatial Reference: 4326
(4326)
LatestVCSWkid(0)
Full Extent:
XMin: -121.25035000000707
YMin: 34.274429
XMax: -112.4423690000142
YMax: 43.115742
Spatial Reference: 4326
(4326)
LatestVCSWkid(0)
Pixel Size X: 0.00832512381851879
Pixel Size Y: 0.008325153483992466
Band Count: 19
Pixel Type: F64
RasterFunction Infos: {"rasterFunctionInfos": [{
"name": "None",
"description": "",
"help": ""
}]}
Mensuration Capabilities: Basic
Inspection Capabilities:
Has Histograms: true
Has Colormap: false
Has Multi Dimensions : false
Rendering Rule:
Min Scale: 0
Max Scale: 0
Copyright Text:
Service Data Type: esriImageServiceDataTypeGeneric
Min Values: 13.9409183064, 13.497735511502, 12.981794329466, 12.677750807766, 12.474669340667, 12.406661392354, 12.363448359935, 12.312803605689, 12.244105641357, 12.092159882076, 11.407071561198, 10.913982160304, 10.757291832692, 10.632753924035, 10.519421584478, 10.417196758521, 10.323284029022, 10.235486844468, 10.157767932644
Max Values: 50.208792263742, 49.714985865962, 49.413257436055, 49.185907749771, 48.863977673349, 48.570468466327, 48.410063236526, 48.177189166948, 48.022467670726, 47.809359204137, 46.440799512646, 45.699532878521, 45.196996821215, 44.828489282444, 44.523436015329, 44.232309444572, 43.947195123933, 43.687907459412, 43.43808957736
Mean Values: 18.086550045528, 17.395313853271, 16.912606347366, 16.689893003094, 16.418899930972, 16.219766935604, 16.108304779677, 15.967300197603, 15.885491885724, 15.778789427906, 15.166149021789, 14.799783608554, 14.540490946904, 14.340282461743, 14.16705387066, 14.015765898314, 13.879334771359, 13.758585395919, 13.650557276313
Standard Deviation Values: 3.1589437758024, 3.0614942955664, 3.0972627154585, 3.1201248806948, 3.1461280930648, 3.1589735906069, 3.1650152702149, 3.1691044628054, 3.1684729723466, 3.1674125124344, 3.1591754458119, 3.1490410658962, 3.1355720692574, 3.1239332628584, 3.1163364703654, 3.1066117327274, 3.0917055808005, 3.0753732283326, 3.0575384219259
Object ID Field:
Fields:
None
Default Mosaic Method: Center
Allowed Mosaic Methods:
SortField:
SortValue: null
Mosaic Operator: First
Default Compression Quality: 75
Default Resampling Method: Bilinear
Max Record Count: null
Max Image Height: 4100
Max Image Width: 15000
Max Download Image Count: null
Max Mosaic Image Count: null
Allow Raster Function: true
Allow Copy: true
Allow Analysis: true
Allow Compute TiePoints: false
Supports Statistics: false
Supports Advanced Queries: false
Use StandardizedQueries: true
Raster Type Infos:
Name: Raster Dataset
Description: Supports all ArcGIS Raster Datasets
Help:
Has Raster Attribute Table: false
Edit Fields Info: null
Ownership Based AccessControl For Rasters: null
Child Resources:
Info
Histograms
Statistics
Key Properties
Legend
Raster Function Infos
Supported Operations:
Export Image
Identify
Measure
Compute Histograms
Compute Statistics Histograms
Get Samples
Compute Class Statistics
Query Boundary
Compute Pixel Location
Compute Angles
Validate
Project