View In:
ArcGIS JavaScript
ArcGIS Online Map Viewer
ArcGIS Earth
Service Description: NDWR_PMP/local_2hr_V3_tif
Name: NDWR_PMP/local_2hr_V3_tif
Description:
Single Fused Map Cache: false
Extent:
XMin: -121.25035000000707
YMin: 34.274429
XMax: -112.4423690000142
YMax: 43.115742
Spatial Reference: 4326
(4326)
LatestVCSWkid(0)
Initial Extent:
XMin: -121.25035000000707
YMin: 34.274429
XMax: -112.4423690000142
YMax: 43.115742
Spatial Reference: 4326
(4326)
LatestVCSWkid(0)
Full Extent:
XMin: -121.25035000000707
YMin: 34.274429
XMax: -112.4423690000142
YMax: 43.115742
Spatial Reference: 4326
(4326)
LatestVCSWkid(0)
Pixel Size X: 0.00832512381851879
Pixel Size Y: 0.008325153483992466
Band Count: 19
Pixel Type: F64
RasterFunction Infos: {"rasterFunctionInfos": [{
"name": "None",
"description": "",
"help": ""
}]}
Mensuration Capabilities: Basic
Inspection Capabilities:
Has Histograms: true
Has Colormap: false
Has Multi Dimensions : false
Rendering Rule:
Min Scale: 0
Max Scale: 0
Copyright Text:
Service Data Type: esriImageServiceDataTypeGeneric
Min Values: 2.9562402338494, 2.8214410161597, 2.7218431009082, 2.6845589491895, 2.6459351020319, 2.6209104871656, 2.6071932838971, 2.5895304124186, 2.577316885605, 2.5613647541229, 2.4536915519766, 2.3831125499984, 2.3271601005297, 2.2843909570006, 2.2450006935872, 2.2090414066056, 2.1770360191486, 2.1466744981755, 2.1175777195442
Max Values: 14.285448390337, 14.241450303781, 14.217355528781, 14.195289096771, 14.163120907075, 14.139328092246, 14.123196978404, 14.103334705893, 14.085113565467, 14.056137082349, 13.776105090678, 13.511438305919, 13.2723921935, 13.074179926938, 12.88617274365, 12.723932736007, 12.580852807709, 12.446053314083, 12.318858252242
Mean Values: 5.1230711920444, 5.0547785097752, 5.0108385747369, 4.9897669002219, 4.9618238055415, 4.937737237068, 4.9234635290146, 4.9043890422137, 4.8923139955305, 4.8762530664768, 4.7283612567428, 4.5995041279837, 4.490119684625, 4.3955543547496, 4.3048781565279, 4.2214944399369, 4.1443574325236, 4.0724773996982, 4.0038866128912
Standard Deviation Values: 1.7627187460906, 1.7982779315402, 1.8197110953612, 1.8273514048503, 1.8367529432733, 1.8424689707382, 1.8441955377295, 1.8458441699182, 1.8461591893989, 1.845711440723, 1.8313361046785, 1.8135308846386, 1.797634171373, 1.7836811652863, 1.7720218529881, 1.7641813367395, 1.7583436716353, 1.7534647123239, 1.7494914006354
Object ID Field:
Fields:
None
Default Mosaic Method: Center
Allowed Mosaic Methods:
SortField:
SortValue: null
Mosaic Operator: First
Default Compression Quality: 75
Default Resampling Method: Bilinear
Max Record Count: null
Max Image Height: 4100
Max Image Width: 15000
Max Download Image Count: null
Max Mosaic Image Count: null
Allow Raster Function: true
Allow Copy: true
Allow Analysis: true
Allow Compute TiePoints: false
Supports Statistics: false
Supports Advanced Queries: false
Use StandardizedQueries: true
Raster Type Infos:
Name: Raster Dataset
Description: Supports all ArcGIS Raster Datasets
Help:
Has Raster Attribute Table: false
Edit Fields Info: null
Ownership Based AccessControl For Rasters: null
Child Resources:
Info
Histograms
Statistics
Key Properties
Legend
Raster Function Infos
Supported Operations:
Export Image
Identify
Measure
Compute Histograms
Compute Statistics Histograms
Get Samples
Compute Class Statistics
Query Boundary
Compute Pixel Location
Compute Angles
Validate
Project