View In:
ArcGIS JavaScript
ArcGIS Online Map Viewer
ArcGIS Earth
Service Description: NDWR_PMP/local_3hr_V3_tif
Name: NDWR_PMP/local_3hr_V3_tif
Description:
Single Fused Map Cache: false
Extent:
XMin: -121.25035000000707
YMin: 34.274429
XMax: -112.4423690000142
YMax: 43.115742
Spatial Reference: 4326
(4326)
LatestVCSWkid(0)
Initial Extent:
XMin: -121.25035000000707
YMin: 34.274429
XMax: -112.4423690000142
YMax: 43.115742
Spatial Reference: 4326
(4326)
LatestVCSWkid(0)
Full Extent:
XMin: -121.25035000000707
YMin: 34.274429
XMax: -112.4423690000142
YMax: 43.115742
Spatial Reference: 4326
(4326)
LatestVCSWkid(0)
Pixel Size X: 0.00832512381851879
Pixel Size Y: 0.008325153483992466
Band Count: 19
Pixel Type: F64
RasterFunction Infos: {"rasterFunctionInfos": [{
"name": "None",
"description": "",
"help": ""
}]}
Mensuration Capabilities: Basic
Inspection Capabilities:
Has Histograms: true
Has Colormap: false
Has Multi Dimensions : false
Rendering Rule:
Min Scale: 0
Max Scale: 0
Copyright Text:
Service Data Type: esriImageServiceDataTypeGeneric
Min Values: 4.0743771020725, 4.037839990102, 3.8810094646068, 3.7957337108068, 3.6753908244091, 3.578376688864, 3.5184628143149, 3.4442498001479, 3.4012183258703, 3.3433627939476, 3.0532574374396, 2.900592932978, 2.8030989694628, 2.7279897904762, 2.6639630894638, 2.6095281188268, 2.5626282578465, 2.5218917026367, 2.4861601079767
Max Values: 15.5880993384, 15.552613127381, 15.520378690259, 15.500363432305, 15.47747241868, 15.452689406591, 15.435660850522, 15.409095796713, 15.391781375817, 15.363846651111, 15.116545524781, 14.917212504186, 14.757947503491, 14.631246821678, 14.523230545187, 14.422868455834, 14.332027579776, 14.24677029291, 14.163013370053
Mean Values: 6.3735116691009, 6.2782501204558, 6.2167525119371, 6.1826781015384, 6.1384040040562, 6.1018646201937, 6.0790950968376, 6.0480619047281, 6.029312424922, 6.0018466153582, 5.7961137251025, 5.6472630114995, 5.5195939072698, 5.4089930130043, 5.3041636510796, 5.2065592807762, 5.1153701389939, 5.0288000227745, 4.9485636416552
Standard Deviation Values: 1.8016897797293, 1.8191450013977, 1.8381659387427, 1.8507194492221, 1.8697562841508, 1.884975358768, 1.8947566190071, 1.9067455085013, 1.9135409774939, 1.9229765155543, 1.9624547601476, 1.9750642681969, 1.9785852796144, 1.9808679805029, 1.98167721111, 1.9811760589158, 1.9800778003302, 1.9783907707043, 1.9756907794678
Object ID Field:
Fields:
None
Default Mosaic Method: Center
Allowed Mosaic Methods:
SortField:
SortValue: null
Mosaic Operator: First
Default Compression Quality: 75
Default Resampling Method: Bilinear
Max Record Count: null
Max Image Height: 4100
Max Image Width: 15000
Max Download Image Count: null
Max Mosaic Image Count: null
Allow Raster Function: true
Allow Copy: true
Allow Analysis: true
Allow Compute TiePoints: false
Supports Statistics: false
Supports Advanced Queries: false
Use StandardizedQueries: true
Raster Type Infos:
Name: Raster Dataset
Description: Supports all ArcGIS Raster Datasets
Help:
Has Raster Attribute Table: false
Edit Fields Info: null
Ownership Based AccessControl For Rasters: null
Child Resources:
Info
Histograms
Statistics
Key Properties
Legend
Raster Function Infos
Supported Operations:
Export Image
Identify
Measure
Compute Histograms
Compute Statistics Histograms
Get Samples
Compute Class Statistics
Query Boundary
Compute Pixel Location
Compute Angles
Validate
Project