View In:
ArcGIS JavaScript
ArcGIS Online Map Viewer
ArcGIS Earth
Service Description: NDWR_PMP/local_4hr_V3_tif
Name: NDWR_PMP/local_4hr_V3_tif
Description:
Single Fused Map Cache: false
Extent:
XMin: -121.25035000000707
YMin: 34.274429
XMax: -112.4423690000142
YMax: 43.115742
Spatial Reference: 4326
(4326)
LatestVCSWkid(0)
Initial Extent:
XMin: -121.25035000000707
YMin: 34.274429
XMax: -112.4423690000142
YMax: 43.115742
Spatial Reference: 4326
(4326)
LatestVCSWkid(0)
Full Extent:
XMin: -121.25035000000707
YMin: 34.274429
XMax: -112.4423690000142
YMax: 43.115742
Spatial Reference: 4326
(4326)
LatestVCSWkid(0)
Pixel Size X: 0.00832512381851879
Pixel Size Y: 0.008325153483992466
Band Count: 19
Pixel Type: F64
RasterFunction Infos: {"rasterFunctionInfos": [{
"name": "None",
"description": "",
"help": ""
}]}
Mensuration Capabilities: Basic
Inspection Capabilities:
Has Histograms: true
Has Colormap: false
Has Multi Dimensions : false
Rendering Rule:
Min Scale: 0
Max Scale: 0
Copyright Text:
Service Data Type: esriImageServiceDataTypeGeneric
Min Values: 4.2460965749155, 4.2210116174316, 4.204016716462, 4.1906951874539, 4.0585152877434, 3.9525000908071, 3.8840728621685, 3.801595849615, 3.7531376549515, 3.6876223925903, 3.382424897692, 3.2758228388789, 3.2227249407886, 3.1810983489266, 3.1413724009048, 3.0849376961997, 3.0303185589786, 2.9834119731267, 2.9415762838816
Max Values: 18.122607374224, 18.10801487636, 18.097015103154, 18.084808155934, 18.055659448989, 18.02576576576, 18.005455874477, 17.979895263305, 17.965294533167, 17.940233493978, 17.70089586619, 17.512498812345, 17.352770058529, 17.214432417617, 17.088017660166, 16.976510639879, 16.871615449231, 16.765982608585, 16.656986576871
Mean Values: 6.9338883369161, 6.8416140779245, 6.7762892178274, 6.738119899964, 6.6874595969903, 6.6460539996733, 6.6197135835155, 6.5852685137481, 6.5640337214975, 6.5322292549563, 6.3160592368196, 6.1561053665294, 6.0251100416997, 5.9145109429351, 5.8107391221964, 5.7159070257814, 5.6313876451462, 5.555705875787, 5.486805684544
Standard Deviation Values: 2.2867409306253, 2.306534592788, 2.3220539266199, 2.3300370332969, 2.3435057008732, 2.3543169870625, 2.3613007639348, 2.3696319345469, 2.3750555279153, 2.3824252432687, 2.4074846706454, 2.4097016485429, 2.4090094364049, 2.4098035784053, 2.4112433711971, 2.4132468267326, 2.4142118373927, 2.4129529284237, 2.4095214134128
Object ID Field:
Fields:
None
Default Mosaic Method: Center
Allowed Mosaic Methods:
SortField:
SortValue: null
Mosaic Operator: First
Default Compression Quality: 75
Default Resampling Method: Bilinear
Max Record Count: null
Max Image Height: 4100
Max Image Width: 15000
Max Download Image Count: null
Max Mosaic Image Count: null
Allow Raster Function: true
Allow Copy: true
Allow Analysis: true
Allow Compute TiePoints: false
Supports Statistics: false
Supports Advanced Queries: false
Use StandardizedQueries: true
Raster Type Infos:
Name: Raster Dataset
Description: Supports all ArcGIS Raster Datasets
Help:
Has Raster Attribute Table: false
Edit Fields Info: null
Ownership Based AccessControl For Rasters: null
Child Resources:
Info
Histograms
Statistics
Key Properties
Legend
Raster Function Infos
Supported Operations:
Export Image
Identify
Measure
Compute Histograms
Compute Statistics Histograms
Get Samples
Compute Class Statistics
Query Boundary
Compute Pixel Location
Compute Angles
Validate
Project