View In:
ArcGIS JavaScript
ArcGIS Online Map Viewer
ArcGIS Earth
Service Description: NDWR_PMP/local_5hr_V3_tif
Name: NDWR_PMP/local_5hr_V3_tif
Description:
Single Fused Map Cache: false
Extent:
XMin: -121.25035000000707
YMin: 34.274429
XMax: -112.4423690000142
YMax: 43.115742
Spatial Reference: 4326
(4326)
LatestVCSWkid(0)
Initial Extent:
XMin: -121.25035000000707
YMin: 34.274429
XMax: -112.4423690000142
YMax: 43.115742
Spatial Reference: 4326
(4326)
LatestVCSWkid(0)
Full Extent:
XMin: -121.25035000000707
YMin: 34.274429
XMax: -112.4423690000142
YMax: 43.115742
Spatial Reference: 4326
(4326)
LatestVCSWkid(0)
Pixel Size X: 0.00832512381851879
Pixel Size Y: 0.008325153483992466
Band Count: 19
Pixel Type: F64
RasterFunction Infos: {"rasterFunctionInfos": [{
"name": "None",
"description": "",
"help": ""
}]}
Mensuration Capabilities: Basic
Inspection Capabilities:
Has Histograms: true
Has Colormap: false
Has Multi Dimensions : false
Rendering Rule:
Min Scale: 0
Max Scale: 0
Copyright Text:
Service Data Type: esriImageServiceDataTypeGeneric
Min Values: 5.2170624871816, 5.0195637216817, 4.9069833427906, 4.8512137526657, 4.7855485986797, 4.7314949934994, 4.7030153133261, 4.5983580111295, 4.5359241277338, 4.4530822426353, 4.0676719320951, 3.8791846192403, 3.7519200092001, 3.6545766572394, 3.5753087747969, 3.5097075973869, 3.452348464931, 3.4020931168745, 3.3582123413595
Max Values: 19.54523709502, 19.178716082467, 18.945231250818, 18.78612422678, 18.590300242195, 18.515349655272, 18.498167168683, 18.473265822264, 18.457141596311, 18.427712211906, 18.174856452352, 17.948295259963, 17.761383739418, 17.607459753679, 17.46320426587, 17.337759649317, 17.225081750357, 17.114451096149, 17.005525834912
Mean Values: 7.87353490911, 7.6344950138569, 7.4910277140121, 7.4264975647723, 7.345971431517, 7.2838397723453, 7.2442558064817, 7.1921407912322, 7.16143085826, 7.1197899909721, 6.865447596276, 6.6934443796834, 6.5541173589392, 6.4387385896995, 6.3328320447607, 6.2373499822744, 6.152606464822, 6.0756182922161, 6.0051658509129
Standard Deviation Values: 2.4165794392406, 2.4080726541389, 2.4018345308173, 2.4030301830538, 2.409903467646, 2.4168212424848, 2.4235230911242, 2.4320289283902, 2.436703506197, 2.4424612841224, 2.456172942059, 2.4505886854721, 2.4427458007819, 2.4386167171986, 2.4347652700062, 2.4310934019605, 2.4280536632448, 2.4241420186351, 2.4193014518985
Object ID Field:
Fields:
None
Default Mosaic Method: Center
Allowed Mosaic Methods:
SortField:
SortValue: null
Mosaic Operator: First
Default Compression Quality: 75
Default Resampling Method: Bilinear
Max Record Count: null
Max Image Height: 4100
Max Image Width: 15000
Max Download Image Count: null
Max Mosaic Image Count: null
Allow Raster Function: true
Allow Copy: true
Allow Analysis: true
Allow Compute TiePoints: false
Supports Statistics: false
Supports Advanced Queries: false
Use StandardizedQueries: true
Raster Type Infos:
Name: Raster Dataset
Description: Supports all ArcGIS Raster Datasets
Help:
Has Raster Attribute Table: false
Edit Fields Info: null
Ownership Based AccessControl For Rasters: null
Child Resources:
Info
Histograms
Statistics
Key Properties
Legend
Raster Function Infos
Supported Operations:
Export Image
Identify
Measure
Compute Histograms
Compute Statistics Histograms
Get Samples
Compute Class Statistics
Query Boundary
Compute Pixel Location
Compute Angles
Validate
Project