View In:
ArcGIS JavaScript
ArcGIS Online Map Viewer
ArcGIS Earth
Service Description: NDWR_PMP/local_6hr_V3_tif
Name: NDWR_PMP/local_6hr_V3_tif
Description:
Single Fused Map Cache: false
Extent:
XMin: -121.25035000000707
YMin: 34.274429
XMax: -112.4423690000142
YMax: 43.115742
Spatial Reference: 4326
(4326)
LatestVCSWkid(0)
Initial Extent:
XMin: -121.25035000000707
YMin: 34.274429
XMax: -112.4423690000142
YMax: 43.115742
Spatial Reference: 4326
(4326)
LatestVCSWkid(0)
Full Extent:
XMin: -121.25035000000707
YMin: 34.274429
XMax: -112.4423690000142
YMax: 43.115742
Spatial Reference: 4326
(4326)
LatestVCSWkid(0)
Pixel Size X: 0.00832512381851879
Pixel Size Y: 0.008325153483992466
Band Count: 19
Pixel Type: F64
RasterFunction Infos: {"rasterFunctionInfos": [{
"name": "None",
"description": "",
"help": ""
}]}
Mensuration Capabilities: Basic
Inspection Capabilities:
Has Histograms: true
Has Colormap: false
Has Multi Dimensions : false
Rendering Rule:
Min Scale: 0
Max Scale: 0
Copyright Text:
Service Data Type: esriImageServiceDataTypeGeneric
Min Values: 5.2289598254615, 5.1302106923315, 5.0787538306012, 5.0510920765924, 5.0107679949444, 4.9772531032764, 4.9589523842127, 4.9326550934593, 4.9165207691111, 4.8946854213033, 4.7561479828479, 4.6535781039736, 4.5682472491261, 4.4952796141311, 4.4278347567542, 4.3681439602452, 4.3138855720139, 4.2634962191282, 4.21750027166
Max Values: 23.800870355313, 23.432814752035, 23.12610235381, 23.001883985508, 22.79461721629, 22.598940721005, 22.493082346745, 22.350558543281, 22.26597450976, 22.156573599223, 21.386395052152, 20.802248963098, 20.376308710103, 20.077449057815, 19.835772081369, 19.634706302216, 19.456593591589, 19.299839706932, 19.159092779187
Mean Values: 8.3765741200006, 8.1166826867046, 7.9567323415356, 7.8832790619594, 7.7902328714128, 7.7213990254608, 7.6816232489933, 7.6278195652628, 7.5957957146689, 7.5529422306034, 7.3038128016546, 7.1429148005491, 7.0115475930745, 6.9053054606411, 6.8111734405111, 6.7290821913358, 6.6564379061821, 6.5909039244535, 6.5304995195484
Standard Deviation Values: 2.8357604078767, 2.7255474346599, 2.6697926228852, 2.6539389331723, 2.6439129702432, 2.6389723497292, 2.6378634969018, 2.6332866983347, 2.630955854582, 2.6279165680764, 2.5930917888103, 2.5593631237007, 2.5303813063492, 2.5089849322254, 2.4885712260821, 2.4710107801059, 2.4549124088865, 2.4405239830747, 2.4267491419621
Object ID Field:
Fields:
None
Default Mosaic Method: Center
Allowed Mosaic Methods:
SortField:
SortValue: null
Mosaic Operator: First
Default Compression Quality: 75
Default Resampling Method: Bilinear
Max Record Count: null
Max Image Height: 4100
Max Image Width: 15000
Max Download Image Count: null
Max Mosaic Image Count: null
Allow Raster Function: true
Allow Copy: true
Allow Analysis: true
Allow Compute TiePoints: false
Supports Statistics: false
Supports Advanced Queries: false
Use StandardizedQueries: true
Raster Type Infos:
Name: Raster Dataset
Description: Supports all ArcGIS Raster Datasets
Help:
Has Raster Attribute Table: false
Edit Fields Info: null
Ownership Based AccessControl For Rasters: null
Child Resources:
Info
Histograms
Statistics
Key Properties
Legend
Raster Function Infos
Supported Operations:
Export Image
Identify
Measure
Compute Histograms
Compute Statistics Histograms
Get Samples
Compute Class Statistics
Query Boundary
Compute Pixel Location
Compute Angles
Validate
Project